FILENAME: O4610751.SWS.1006908.tif
QUADRANGLE_NAME: COAL BANK CREEK
QUADRANT: SW
WEST_LONGITUDE: -107 45 0.00000
EAST_LONGITUDE: -107 41 15.00000
NORTH_LATITUDE: 46 11 15.00000
SOUTH_LATITUDE: 46 7 30.00000
PRODUCTION_DATE: 1999 4 23
RASTER_ORDER: LEFT_RIGHT/TOP_BOTTOM
BAND_ORGANIZATION: SINGLE FILE
BAND_CONTENT: BLACK&WHITE
BAND_CONTENT: UNDEFINED
BAND_CONTENT: UNDEFINED
BITS_PER_PIXEL: 8
SAMPLES_AND_LINES: 5716 7712
HORIZONTAL_DATUM: NAD83
HORIZONTAL_COORDINATE_SYSTEM: UTM
COORDINATE_ZONE: 13
HORIZONTAL_UNITS: METERS
HORIZONTAL_RESOLUTION: 1.00000
SECONDARY_HORIZONTAL_DATUM: NAD27
XY_ORIGIN: 287193.00000 5118857.00000
SECONDARY_XY_ORIGIN: 287236.40200 5118639.07600
NATION: US
NATION: "SCIENCE
STATE: MT
NW_QUAD_CORNER_XY: 287784.82400 5118556.77100
NE_QUAD_CORNER_XY: 292607.75100 5118391.50400
SE_QUAD_CORNERY_XY: 292372.66100 5111447.43500
SW_QUAD_CORNER_XY: 287544.25900 5111612.71700
SECONDARY_NW_QUAD_XY: 287778.39500 5118338.78900
SECONDARY_NE_QUAD_XY: 292601.46800 5118173.51700
SECONDARY_SE_QUAD_XY: 292366.37900 5111229.48800
SECONDARY_SW_QUAD_XY: 287537.83100 5111394.77500
RMSE_XY: 1.60000
IMAGE_SOURCE: BLACK AND WHITE FILM
SOURCE_IMAGE_ID: NAPP 9139 039
SOURCE_IMAGE_DATE: 1996 08 26
SOURCE_DEM_DATE: 1956 00 00
AGENCY: WESTERN MAPPING CENTER (WMC)
PRODUCER: UNDEFINED
PRODUCTION_SYSTEM: GIS/MAGIC
COMPRESSION: UNDEFINED
STANDARD_VERSION: 1996 12
METADATA_DATE: 1999 05 18
DATA_FILE_SIZE: 44087508
BYTE_COUNT: 5716
