FILENAME: O4610751.SES.1006907.tif
QUADRANGLE_NAME: COAL BANK CREEK
QUADRANT: SE
WEST_LONGITUDE: -107 41 15.00000
EAST_LONGITUDE: -107 37 30.00000
NORTH_LATITUDE: 46 11 15.00000
SOUTH_LATITUDE: 46 7 30.00000
PRODUCTION_DATE: 1999 4 23
RASTER_ORDER: LEFT_RIGHT/TOP_BOTTOM
BAND_ORGANIZATION: SINGLE FILE
BAND_CONTENT: BLACK&WHITE
BAND_CONTENT: UNDEFINED
BAND_CONTENT: UNDEFINED
BITS_PER_PIXEL: 8
SAMPLES_AND_LINES: 5710 7709
HORIZONTAL_DATUM: NAD83
HORIZONTAL_COORDINATE_SYSTEM: UTM
COORDINATE_ZONE: 13
HORIZONTAL_UNITS: METERS
HORIZONTAL_RESOLUTION: 1.00000
SECONDARY_HORIZONTAL_DATUM: NAD27
XY_ORIGIN: 292022.00000 5118692.00000
SECONDARY_XY_ORIGIN: 292065.22600 5118474.05800
NATION: US
NATION: "SCIENCE
STATE: MT
NW_QUAD_CORNER_XY: 292607.75100 5118391.50400
NE_QUAD_CORNER_XY: 297430.68800 5118230.04100
SE_QUAD_CORNERY_XY: 297201.07300 5111285.95800
SW_QUAD_CORNER_XY: 292372.66100 5111447.43500
SECONDARY_NW_QUAD_XY: 292601.46800 5118173.51700
SECONDARY_NE_QUAD_XY: 297424.55200 5118012.04900
SECONDARY_SE_QUAD_XY: 297194.93700 5111068.00600
SECONDARY_SW_QUAD_XY: 292366.37900 5111229.48800
RMSE_XY: 1.50000
IMAGE_SOURCE: BLACK AND WHITE FILM
SOURCE_IMAGE_ID: NAPP 9135 148
SOURCE_IMAGE_DATE: 1996 08 19
SOURCE_DEM_DATE: 1956 00 00
AGENCY: WESTERN MAPPING CENTER (WMC)
PRODUCER: UNDEFINED
PRODUCTION_SYSTEM: GIS/MAGIC
COMPRESSION: UNDEFINED
STANDARD_VERSION: 1996 12
METADATA_DATE: 1999 05 18
DATA_FILE_SIZE: 44024100
BYTE_COUNT: 5710
