FILENAME: O4610751.NWS.1006906.tif
QUADRANGLE_NAME: COAL BANK CREEK
QUADRANT: NW
WEST_LONGITUDE: -107 45 0.00000
EAST_LONGITUDE: -107 41 15.00000
NORTH_LATITUDE: 46 15 0.00000
SOUTH_LATITUDE: 46 11 15.00000
PRODUCTION_DATE: 1999 4 23
RASTER_ORDER: LEFT_RIGHT/TOP_BOTTOM
BAND_ORGANIZATION: SINGLE FILE
BAND_CONTENT: BLACK&WHITE
BAND_CONTENT: UNDEFINED
BAND_CONTENT: UNDEFINED
BITS_PER_PIXEL: 8
SAMPLES_AND_LINES: 5711 7712
HORIZONTAL_DATUM: NAD83
HORIZONTAL_COORDINATE_SYSTEM: UTM
COORDINATE_ZONE: 13
HORIZONTAL_UNITS: METERS
HORIZONTAL_RESOLUTION: 1.00000
SECONDARY_HORIZONTAL_DATUM: NAD27
XY_ORIGIN: 287434.00000 5125801.00000
SECONDARY_XY_ORIGIN: 287477.39200 5125583.08500
NATION: US
NATION: "SCIENCE
STATE: MT
NW_QUAD_CORNER_XY: 288025.64400 5125500.88400
NE_QUAD_CORNER_XY: 292843.09000 5125335.63200
SE_QUAD_CORNERY_XY: 292607.75100 5118391.50400
SW_QUAD_CORNER_XY: 287784.82400 5118556.77100
SECONDARY_NW_QUAD_XY: 288019.21300 5125282.86300
SECONDARY_NE_QUAD_XY: 292836.80600 5125117.60600
SECONDARY_SE_QUAD_XY: 292601.46800 5118173.51700
SECONDARY_SW_QUAD_XY: 287778.39500 5118338.78900
RMSE_XY: 2.00000
IMAGE_SOURCE: BLACK AND WHITE FILM
SOURCE_IMAGE_ID: NAPP 9139 037
SOURCE_IMAGE_DATE: 1996 08 26
SOURCE_IMAGE_ID: NAPP 9139 035
SOURCE_IMAGE_DATE: 1996 08 26
SOURCE_DEM_DATE: 1956 00 00
AGENCY: WESTERN MAPPING CENTER (WMC)
PRODUCER: UNDEFINED
PRODUCTION_SYSTEM: GIS/MAGIC
COMPRESSION: UNDEFINED
STANDARD_VERSION: 1996 12
METADATA_DATE: 1999 05 18
DATA_FILE_SIZE: 44048943
BYTE_COUNT: 5711
