FILENAME: O4610752.NWS.1008827.tif
QUADRANGLE_NAME: CUSTER
QUADRANT: NW
WEST_LONGITUDE: -107 37 30.00000
EAST_LONGITUDE: -107 33 45.00000
NORTH_LATITUDE: 46 15 0.00000
SOUTH_LATITUDE: 46 11 15.00000
PRODUCTION_DATE: 1999 4 23
RASTER_ORDER: LEFT_RIGHT/TOP_BOTTOM
BAND_ORGANIZATION: SINGLE FILE
BAND_CONTENT: BLACK&WHITE
BAND_CONTENT: UNDEFINED
BAND_CONTENT: UNDEFINED
BITS_PER_PIXEL: 8
SAMPLES_AND_LINES: 5700 7705
HORIZONTAL_DATUM: NAD83
HORIZONTAL_COORDINATE_SYSTEM: UTM
COORDINATE_ZONE: 13
HORIZONTAL_UNITS: METERS
HORIZONTAL_RESOLUTION: 1.00000
SECONDARY_HORIZONTAL_DATUM: NAD27
XY_ORIGIN: 297080.00000 5125475.00000
SECONDARY_XY_ORIGIN: 297123.04900 5125257.05300
NATION: US
NATION: "SCIENCE
STATE: MT
NW_QUAD_CORNER_XY: 297660.54700 5125174.18400
NE_QUAD_CORNER_XY: 302478.01400 5125016.53900
SE_QUAD_CORNERY_XY: 302253.63500 5118072.38200
SW_QUAD_CORNER_XY: 297430.68800 5118230.04100
SECONDARY_NW_QUAD_XY: 297654.40900 5124956.15300
SECONDARY_NE_QUAD_XY: 302472.02200 5124798.50400
SECONDARY_SE_QUAD_XY: 302247.64500 5117854.38500
SECONDARY_SW_QUAD_XY: 297424.55200 5118012.04900
RMSE_XY: 1.60000
IMAGE_SOURCE: BLACK AND WHITE FILM
SOURCE_IMAGE_ID: NAPP 9135 131
SOURCE_IMAGE_DATE: 1996 08 19
SOURCE_DEM_DATE: 1956 00 00
AGENCY: WESTERN MAPPING CENTER (WMC)
PRODUCER: UNDEFINED
PRODUCTION_SYSTEM: GIS/MAGIC
COMPRESSION: UNDEFINED
STANDARD_VERSION: 1996 12
METADATA_DATE: 1999 06 02
DATA_FILE_SIZE: 43924200
BYTE_COUNT: 5700
