FILENAME: O4610756.NES.1010575.tif
QUADRANGLE_NAME: WOODS WATER
QUADRANT: NE
WEST_LONGITUDE: -107 3 45.00000
EAST_LONGITUDE: -107 0 0.00000
NORTH_LATITUDE: 46 15 0.00000
SOUTH_LATITUDE: 46 11 15.00000
PRODUCTION_DATE: 1999 5 24
RASTER_ORDER: LEFT_RIGHT/TOP_BOTTOM
BAND_ORGANIZATION: SINGLE FILE
BAND_CONTENT: BLACK&WHITE
BAND_CONTENT: UNDEFINED
BAND_CONTENT: UNDEFINED
BITS_PER_PIXEL: 8
SAMPLES_AND_LINES: 5648 7671
HORIZONTAL_DATUM: NAD83
HORIZONTAL_COORDINATE_SYSTEM: UTM
COORDINATE_ZONE: 13
HORIZONTAL_UNITS: METERS
HORIZONTAL_RESOLUTION: 1.00000
SECONDARY_HORIZONTAL_DATUM: NAD27
XY_ORIGIN: 340489.00000 5124193.00000
SECONDARY_XY_ORIGIN: 340531.14200 5123974.91100
NATION: US
NATION: "SCIENCE
STATE: MT
NW_QUAD_CORNER_XY: 341018.09400 5123892.27800
NE_QUAD_CORNER_XY: 345835.64300 5123768.85200
SE_QUAD_CORNERY_XY: 345660.56200 5116824.58100
SW_QUAD_CORNER_XY: 340837.53700 5116948.01800
SECONDARY_NW_QUAD_XY: 341013.27200 5123674.20800
SECONDARY_NE_QUAD_XY: 345830.96700 5123550.77800
SECONDARY_SE_QUAD_XY: 345655.88600 5116606.54600
SECONDARY_SW_QUAD_XY: 340832.71500 5116729.98700
RMSE_XY: 1.20000
IMAGE_SOURCE: BLACK AND WHITE FILM
SOURCE_IMAGE_ID: NAPP 9099 125
SOURCE_IMAGE_DATE: 1996 07 14
SOURCE_IMAGE_ID: NAPP 9099 123
SOURCE_IMAGE_DATE: 1996 07 14
SOURCE_DEM_DATE: 1971 00 00
AGENCY: WESTERN MAPPING CENTER (WMC)
PRODUCER: UNDEFINED
PRODUCTION_SYSTEM: GIS/MAGIC
COMPRESSION: UNDEFINED
STANDARD_VERSION: 1996 12
METADATA_DATE: 1999 06 07
DATA_FILE_SIZE: 43331456
BYTE_COUNT: 5648
