FILENAME: O4610757.NWS.1006586.tif
QUADRANGLE_NAME: BIG MARYS ISLAND
QUADRANT: NW
WEST_LONGITUDE: -108 0 0.00000
EAST_LONGITUDE: -107 56 15.00000
NORTH_LATITUDE: 46 7 30.00000
SOUTH_LATITUDE: 46 3 45.00000
PRODUCTION_DATE: 1999 4 23
RASTER_ORDER: LEFT_RIGHT/TOP_BOTTOM
BAND_ORGANIZATION: SINGLE FILE
BAND_CONTENT: BLACK&WHITE
BAND_CONTENT: UNDEFINED
BAND_CONTENT: UNDEFINED
BITS_PER_PIXEL: 8
SAMPLES_AND_LINES: 5745 7728
HORIZONTAL_DATUM: NAD83
HORIZONTAL_COORDINATE_SYSTEM: UTM
COORDINATE_ZONE: 13
HORIZONTAL_UNITS: METERS
HORIZONTAL_RESOLUTION: 1.00000
SECONDARY_HORIZONTAL_DATUM: NAD27
XY_ORIGIN: 267616.00000 5112612.00000
SECONDARY_XY_ORIGIN: 267660.42700 5112395.28900
NATION: US
NATION: "SCIENCE
STATE: MT
NW_QUAD_CORNER_XY: 268230.75200 5112311.89900
NE_QUAD_CORNER_XY: 273059.11300 5112131.39500
SE_QUAD_CORNERY_XY: 272802.39100 5105187.44200
SW_QUAD_CORNER_XY: 267968.55800 5105367.96200
SECONDARY_NW_QUAD_XY: 268223.73900 5112093.97800
SECONDARY_NE_QUAD_XY: 273052.24700 5111913.46800
SECONDARY_SE_QUAD_XY: 272795.52600 5104969.55600
SECONDARY_SW_QUAD_XY: 267961.54700 5105150.08100
RMSE_XY: 1.30000
IMAGE_SOURCE: BLACK AND WHITE FILM
SOURCE_IMAGE_ID: NAPP 9151 015
SOURCE_IMAGE_DATE: 1996 09 11
SOURCE_DEM_DATE: 1966 00 00
AGENCY: WESTERN MAPPING CENTER (WMC)
PRODUCER: UNDEFINED
PRODUCTION_SYSTEM: GIS/MAGIC
COMPRESSION: UNDEFINED
STANDARD_VERSION: 1996 12
METADATA_DATE: 1999 05 18
DATA_FILE_SIZE: 44403105
BYTE_COUNT: 5745
