FILENAME: O4610759.SWS.1006912.tif
QUADRANGLE_NAME: WACO
QUADRANT: SW
WEST_LONGITUDE: -107 45 0.00000
EAST_LONGITUDE: -107 41 15.00000
NORTH_LATITUDE: 46 3 45.00000
SOUTH_LATITUDE: 46 0 0.00000
PRODUCTION_DATE: 1999 4 23
RASTER_ORDER: LEFT_RIGHT/TOP_BOTTOM
BAND_ORGANIZATION: SINGLE FILE
BAND_CONTENT: BLACK&WHITE
BAND_CONTENT: UNDEFINED
BAND_CONTENT: UNDEFINED
BITS_PER_PIXEL: 8
SAMPLES_AND_LINES: 5726 7712
HORIZONTAL_DATUM: NAD83
HORIZONTAL_COORDINATE_SYSTEM: UTM
COORDINATE_ZONE: 13
HORIZONTAL_UNITS: METERS
HORIZONTAL_RESOLUTION: 1.00000
SECONDARY_HORIZONTAL_DATUM: NAD27
XY_ORIGIN: 286713.00000 5104969.00000
SECONDARY_XY_ORIGIN: 286756.42100 5104751.06000
NATION: US
NATION: "SCIENCE
STATE: MT
NW_QUAD_CORNER_XY: 287303.94800 5104668.72200
NE_QUAD_CORNER_XY: 292137.81900 5104503.42600
SE_QUAD_CORNERY_XY: 291903.22600 5097559.47700
SW_QUAD_CORNER_XY: 287063.89100 5097724.78500
SECONDARY_NW_QUAD_XY: 287297.52200 5104450.82000
SECONDARY_NE_QUAD_XY: 292131.53900 5104285.51900
SECONDARY_SE_QUAD_XY: 291896.94700 5097341.61100
SECONDARY_SW_QUAD_XY: 287057.46600 5097506.92500
RMSE_XY: 1.70000
IMAGE_SOURCE: BLACK AND WHITE FILM
SOURCE_IMAGE_ID: NAPP 9139 043
SOURCE_IMAGE_DATE: 1996 08 26
SOURCE_DEM_DATE: 1956 00 00
AGENCY: WESTERN MAPPING CENTER (WMC)
PRODUCER: UNDEFINED
PRODUCTION_SYSTEM: GIS/MAGIC
COMPRESSION: UNDEFINED
STANDARD_VERSION: 1996 12
METADATA_DATE: 1999 05 18
DATA_FILE_SIZE: 44164638
BYTE_COUNT: 5726
