FILENAME: O4610759.SES.1006911.tif
QUADRANGLE_NAME: WACO
QUADRANT: SE
WEST_LONGITUDE: -107 41 15.00000
EAST_LONGITUDE: -107 37 30.00000
NORTH_LATITUDE: 46 3 45.00000
SOUTH_LATITUDE: 46 0 0.00000
PRODUCTION_DATE: 1999 4 23
RASTER_ORDER: LEFT_RIGHT/TOP_BOTTOM
BAND_ORGANIZATION: SINGLE FILE
BAND_CONTENT: BLACK&WHITE
BAND_CONTENT: UNDEFINED
BAND_CONTENT: UNDEFINED
BITS_PER_PIXEL: 8
SAMPLES_AND_LINES: 5721 7709
HORIZONTAL_DATUM: NAD83
HORIZONTAL_COORDINATE_SYSTEM: UTM
COORDINATE_ZONE: 13
HORIZONTAL_UNITS: METERS
HORIZONTAL_RESOLUTION: 1.00000
SECONDARY_HORIZONTAL_DATUM: NAD27
XY_ORIGIN: 291552.00000 5104804.00000
SECONDARY_XY_ORIGIN: 291595.23600 5104586.03900
NATION: US
NATION: "SCIENCE
STATE: MT
NW_QUAD_CORNER_XY: 292137.81900 5104503.42600
NE_QUAD_CORNER_XY: 296971.70000 5104341.93600
SE_QUAD_CORNERY_XY: 296742.56900 5097397.97400
SW_QUAD_CORNER_XY: 291903.22600 5097559.47700
SECONDARY_NW_QUAD_XY: 292131.53900 5104285.51900
SECONDARY_NE_QUAD_XY: 296965.56500 5104124.02400
SECONDARY_SE_QUAD_XY: 296736.43700 5097180.10400
SECONDARY_SW_QUAD_XY: 291896.94700 5097341.61100
RMSE_XY: 1.30000
IMAGE_SOURCE: BLACK AND WHITE FILM
SOURCE_IMAGE_ID: NAPP 9135 152
SOURCE_IMAGE_DATE: 1996 08 19
SOURCE_DEM_DATE: 1956 00 00
AGENCY: WESTERN MAPPING CENTER (WMC)
PRODUCER: UNDEFINED
PRODUCTION_SYSTEM: GIS/MAGIC
COMPRESSION: UNDEFINED
STANDARD_VERSION: 1996 12
METADATA_DATE: 1999 05 18
DATA_FILE_SIZE: 44108910
BYTE_COUNT: 5721
