FILENAME: O4610760.NWS.1008831.tif
QUADRANGLE_NAME: MISSION CREEK
QUADRANT: NW
WEST_LONGITUDE: -107 37 30.00000
EAST_LONGITUDE: -107 33 45.00000
NORTH_LATITUDE: 46 7 30.00000
SOUTH_LATITUDE: 46 3 45.00000
PRODUCTION_DATE: 1999 4 23
RASTER_ORDER: LEFT_RIGHT/TOP_BOTTOM
BAND_ORGANIZATION: SINGLE FILE
BAND_CONTENT: BLACK&WHITE
BAND_CONTENT: UNDEFINED
BAND_CONTENT: UNDEFINED
BITS_PER_PIXEL: 8
SAMPLES_AND_LINES: 5710 7704
HORIZONTAL_DATUM: NAD83
HORIZONTAL_COORDINATE_SYSTEM: UTM
COORDINATE_ZONE: 13
HORIZONTAL_UNITS: METERS
HORIZONTAL_RESOLUTION: 1.00000
SECONDARY_HORIZONTAL_DATUM: NAD27
XY_ORIGIN: 296621.00000 5111586.00000
SECONDARY_XY_ORIGIN: 296664.05000 5111368.02900
NATION: US
NATION: "SCIENCE
STATE: MT
NW_QUAD_CORNER_XY: 297201.07300 5111285.95800
NE_QUAD_CORNER_XY: 302029.49400 5111128.28600
SE_QUAD_CORNERY_XY: 301805.58900 5104184.25100
SW_QUAD_CORNER_XY: 296971.70000 5104341.93600
SECONDARY_NW_QUAD_XY: 297194.93700 5111068.00600
SECONDARY_NE_QUAD_XY: 302023.50400 5110910.32900
SECONDARY_SE_QUAD_XY: 301799.60100 5103966.33400
SECONDARY_SW_QUAD_XY: 296965.56500 5104124.02400
RMSE_XY: 1.20000
IMAGE_SOURCE: BLACK AND WHITE FILM
SOURCE_IMAGE_ID: NAPP 9135 127
SOURCE_IMAGE_DATE: 1996 08 19
SOURCE_DEM_DATE: 1956 00 00
AGENCY: WESTERN MAPPING CENTER (WMC)
PRODUCER: UNDEFINED
PRODUCTION_SYSTEM: GIS/MAGIC
COMPRESSION: UNDEFINED
STANDARD_VERSION: 1996 12
METADATA_DATE: 1999 06 02
DATA_FILE_SIZE: 43995550
BYTE_COUNT: 5710
