FILENAME: O4610761.SWS.1008841.tif
QUADRANGLE_NAME: MARSH COULEE
QUADRANT: SW
WEST_LONGITUDE: -107 30 0.00000
EAST_LONGITUDE: -107 26 15.00000
NORTH_LATITUDE: 46 3 45.00000
SOUTH_LATITUDE: 46 0 0.00000
PRODUCTION_DATE: 1999 5 24
RASTER_ORDER: LEFT_RIGHT/TOP_BOTTOM
BAND_ORGANIZATION: SINGLE FILE
BAND_CONTENT: BLACK&WHITE
BAND_CONTENT: UNDEFINED
BAND_CONTENT: UNDEFINED
BITS_PER_PIXEL: 8
SAMPLES_AND_LINES: 5704 7697
HORIZONTAL_DATUM: NAD83
HORIZONTAL_COORDINATE_SYSTEM: UTM
COORDINATE_ZONE: 13
HORIZONTAL_UNITS: METERS
HORIZONTAL_RESOLUTION: 1.00000
SECONDARY_HORIZONTAL_DATUM: NAD27
XY_ORIGIN: 306071.00000 5104331.00000
SECONDARY_XY_ORIGIN: 306113.66100 5104112.96900
NATION: US
NATION: "SCIENCE
STATE: MT
NW_QUAD_CORNER_XY: 306639.48700 5104030.37000
NE_QUAD_CORNER_XY: 311473.39300 5103880.29300
SE_QUAD_CORNERY_XY: 311260.64900 5096936.29500
SW_QUAD_CORNER_XY: 306421.28100 5097086.38400
SECONDARY_NW_QUAD_XY: 306633.64500 5103812.44900
SECONDARY_NE_QUAD_XY: 311467.69700 5103662.36700
SECONDARY_SE_QUAD_XY: 311254.95400 5096718.41100
SECONDARY_SW_QUAD_XY: 306415.44000 5096868.50400
RMSE_XY: 1.50000
IMAGE_SOURCE: BLACK AND WHITE FILM
SOURCE_IMAGE_ID: NAPP 9133 218
SOURCE_IMAGE_DATE: 1996 08 08
SOURCE_IMAGE_ID: NAPP 9135 058
SOURCE_IMAGE_DATE: 1996 08 19
SOURCE_IMAGE_ID: NAPP 9133 216
SOURCE_IMAGE_DATE: 1996 08 08
SOURCE_DEM_DATE: 1956 00 00
AGENCY: WESTERN MAPPING CENTER (WMC)
PRODUCER: UNDEFINED
PRODUCTION_SYSTEM: GIS/MAGIC
COMPRESSION: UNDEFINED
STANDARD_VERSION: 1996 12
METADATA_DATE: 1999 06 02
DATA_FILE_SIZE: 43909392
BYTE_COUNT: 5704
