FILENAME: O4610602.SWS.1112269.tif
QUADRANGLE_NAME: ANTELOPE SPRINGS
QUADRANT: SW
WEST_LONGITUDE: -106 52 30.00000
EAST_LONGITUDE: -106 48 45.00000
NORTH_LATITUDE: 46 56 15.00000
SOUTH_LATITUDE: 46 52 30.00000
PRODUCTION_DATE: 2000 11 13
RASTER_ORDER: LEFT_RIGHT/TOP_BOTTOM
BAND_ORGANIZATION: SINGLE FILE
BAND_CONTENT: BLACK&WHITE
BAND_CONTENT: UNDEFINED
BAND_CONTENT: UNDEFINED
BITS_PER_PIXEL: 8
SAMPLES_AND_LINES: 5573 7660
HORIZONTAL_DATUM: NAD83
HORIZONTAL_COORDINATE_SYSTEM: UTM
COORDINATE_ZONE: 13
HORIZONTAL_UNITS: METERS
HORIZONTAL_RESOLUTION: 1.00000
SECONDARY_HORIZONTAL_DATUM: NAD27
XY_ORIGIN: 356773.00000 5200226.00000
SECONDARY_XY_ORIGIN: 356815.38700 5200006.69300
NATION: US
NATION: "SCIENCE
STATE: MT
NW_QUAD_CORNER_XY: 357287.59100 5199925.11000
NE_QUAD_CORNER_XY: 362044.56400 5199813.23200
SE_QUAD_CORNERY_XY: 361884.07700 5192868.17500
SW_QUAD_CORNER_XY: 357121.56700 5192980.06900
SECONDARY_NW_QUAD_XY: 357283.19900 5199706.65700
SECONDARY_NE_QUAD_XY: 362040.31800 5199594.77600
SECONDARY_SE_QUAD_XY: 361879.83200 5192649.74800
SECONDARY_SW_QUAD_XY: 357117.17500 5192761.64600
RMSE_XY: 2.20000
IMAGE_SOURCE: BLACK AND WHITE FILM
SOURCE_IMAGE_ID: NAPP 10723 035
SOURCE_IMAGE_DATE: 1997 08 28
SOURCE_DEM_DATE: 1988 00 00
AGENCY: WESTERN MAPPING CENTER (WMC)
PRODUCER: UNDEFINED
PRODUCTION_SYSTEM: GIS/MAGIC
COMPRESSION: UNDEFINED
STANDARD_VERSION: 1996 12
METADATA_DATE: 2000 11 17
DATA_FILE_SIZE: 42694753
BYTE_COUNT: 5573
