FILENAME: O4610602.NES.1112266.tif
QUADRANGLE_NAME: ANTELOPE SPRINGS
QUADRANT: NE
WEST_LONGITUDE: -106 48 45.00000
EAST_LONGITUDE: -106 45 0.00000
NORTH_LATITUDE: 47 0 0.00000
SOUTH_LATITUDE: 46 56 15.00000
PRODUCTION_DATE: 2000 11 13
RASTER_ORDER: LEFT_RIGHT/TOP_BOTTOM
BAND_ORGANIZATION: SINGLE FILE
BAND_CONTENT: BLACK&WHITE
BAND_CONTENT: UNDEFINED
BAND_CONTENT: UNDEFINED
BITS_PER_PIXEL: 8
SAMPLES_AND_LINES: 5561 7657
HORIZONTAL_DATUM: NAD83
HORIZONTAL_COORDINATE_SYSTEM: UTM
COORDINATE_ZONE: 13
HORIZONTAL_UNITS: METERS
HORIZONTAL_RESOLUTION: 1.00000
SECONDARY_HORIZONTAL_DATUM: NAD27
XY_ORIGIN: 361697.00000 5207060.00000
SECONDARY_XY_ORIGIN: 361739.28300 5206840.60900
NATION: US
NATION: "SCIENCE
STATE: MT
NW_QUAD_CORNER_XY: 362205.21700 5206758.35800
NE_QUAD_CORNER_XY: 366956.65800 5206650.29000
SE_QUAD_CORNERY_XY: 366801.54800 5199705.14900
SW_QUAD_CORNER_XY: 362044.56400 5199813.23200
SECONDARY_NW_QUAD_XY: 362200.97000 5206539.87200
SECONDARY_NE_QUAD_XY: 366952.55800 5206431.80200
SECONDARY_SE_QUAD_XY: 366797.44900 5199486.68900
SECONDARY_SW_QUAD_XY: 362040.31800 5199594.77600
RMSE_XY: 1.60000
IMAGE_SOURCE: BLACK AND WHITE FILM
SOURCE_IMAGE_ID: NAPP 9109 027
SOURCE_IMAGE_DATE: 1996 08 11
SOURCE_DEM_DATE: 1988 00 00
AGENCY: WESTERN MAPPING CENTER (WMC)
PRODUCER: UNDEFINED
PRODUCTION_SYSTEM: GIS/MAGIC
COMPRESSION: UNDEFINED
STANDARD_VERSION: 1996 12
METADATA_DATE: 2000 11 17
DATA_FILE_SIZE: 42586138
BYTE_COUNT: 5561
