FILENAME: O4610603.SWS.1112305.tif
QUADRANGLE_NAME: BLACK HILLS
QUADRANT: SW
WEST_LONGITUDE: -106 45 0.00000
EAST_LONGITUDE: -106 41 15.00000
NORTH_LATITUDE: 46 56 15.00000
SOUTH_LATITUDE: 46 52 30.00000
PRODUCTION_DATE: 2000 11 13
RASTER_ORDER: LEFT_RIGHT/TOP_BOTTOM
BAND_ORGANIZATION: SINGLE FILE
BAND_CONTENT: BLACK&WHITE
BAND_CONTENT: UNDEFINED
BAND_CONTENT: UNDEFINED
BITS_PER_PIXEL: 8
SAMPLES_AND_LINES: 5561 7653
HORIZONTAL_DATUM: NAD83
HORIZONTAL_COORDINATE_SYSTEM: UTM
COORDINATE_ZONE: 13
HORIZONTAL_UNITS: METERS
HORIZONTAL_RESOLUTION: 1.00000
SECONDARY_HORIZONTAL_DATUM: NAD27
XY_ORIGIN: 366299.00000 5200006.00000
SECONDARY_XY_ORIGIN: 366341.14000 5199786.69400
NATION: US
NATION: "SCIENCE
STATE: MT
NW_QUAD_CORNER_XY: 366801.54800 5199705.14900
NE_QUAD_CORNER_XY: 371558.54300 5199600.85900
SE_QUAD_CORNERY_XY: 371409.13000 5192655.77200
SW_QUAD_CORNER_XY: 366646.59800 5192760.07600
SECONDARY_NW_QUAD_XY: 366797.44900 5199486.68900
SECONDARY_NE_QUAD_XY: 371554.59000 5199382.39600
SECONDARY_SE_QUAD_XY: 371405.17700 5192437.33800
SECONDARY_SW_QUAD_XY: 366642.49900 5192541.64600
RMSE_XY: 2.00000
IMAGE_SOURCE: BLACK AND WHITE FILM
SOURCE_IMAGE_ID: NAPP 9111 226
SOURCE_IMAGE_DATE: 1996 08 11
SOURCE_DEM_DATE: 2000 01 01
AGENCY: WESTERN MAPPING CENTER (WMC)
PRODUCER: UNDEFINED
PRODUCTION_SYSTEM: GIS/MAGIC
COMPRESSION: UNDEFINED
STANDARD_VERSION: 1996 12
METADATA_DATE: 2000 11 17
DATA_FILE_SIZE: 42563894
BYTE_COUNT: 5561
