FILENAME: O4610603.SES.1112304.tif
QUADRANGLE_NAME: BLACK HILLS
QUADRANT: SE
WEST_LONGITUDE: -106 41 15.00000
EAST_LONGITUDE: -106 37 30.00000
NORTH_LATITUDE: 46 56 15.00000
SOUTH_LATITUDE: 46 52 30.00000
PRODUCTION_DATE: 2000 11 13
RASTER_ORDER: LEFT_RIGHT/TOP_BOTTOM
BAND_ORGANIZATION: SINGLE FILE
BAND_CONTENT: BLACK&WHITE
BAND_CONTENT: UNDEFINED
BAND_CONTENT: UNDEFINED
BITS_PER_PIXEL: 8
SAMPLES_AND_LINES: 5555 7649
HORIZONTAL_DATUM: NAD83
HORIZONTAL_COORDINATE_SYSTEM: UTM
COORDINATE_ZONE: 13
HORIZONTAL_UNITS: METERS
HORIZONTAL_RESOLUTION: 1.00000
SECONDARY_HORIZONTAL_DATUM: NAD27
XY_ORIGIN: 371062.00000 5199902.00000
SECONDARY_XY_ORIGIN: 371104.01700 5199682.69600
NATION: US
NATION: "SCIENCE
STATE: MT
NW_QUAD_CORNER_XY: 371558.54300 5199600.85900
NE_QUAD_CORNER_XY: 376315.54800 5199500.36500
SE_QUAD_CORNERY_XY: 376171.67100 5192555.26300
SW_QUAD_CORNER_XY: 371409.13000 5192655.77200
SECONDARY_NW_QUAD_XY: 371554.59000 5199382.39600
SECONDARY_NE_QUAD_XY: 376311.74100 5199281.89800
SECONDARY_SE_QUAD_XY: 376167.86500 5192336.82600
SECONDARY_SW_QUAD_XY: 371405.17700 5192437.33800
RMSE_XY: 1.20000
IMAGE_SOURCE: BLACK AND WHITE FILM
SOURCE_IMAGE_ID: NAPP 9111 089
SOURCE_IMAGE_DATE: 1996 08 11
SOURCE_DEM_DATE: 2000 01 01
AGENCY: WESTERN MAPPING CENTER (WMC)
PRODUCER: UNDEFINED
PRODUCTION_SYSTEM: GIS/MAGIC
COMPRESSION: UNDEFINED
STANDARD_VERSION: 1996 12
METADATA_DATE: 2000 11 17
DATA_FILE_SIZE: 42495750
BYTE_COUNT: 5555
