FILENAME: O4610604.SWS.1112342.tif
QUADRANGLE_NAME: CHRISTENSON RESERVOIR
QUADRANT: SW
WEST_LONGITUDE: -106 37 30.00000
EAST_LONGITUDE: -106 33 45.00000
NORTH_LATITUDE: 46 56 15.00000
SOUTH_LATITUDE: 46 52 30.00000
PRODUCTION_DATE: 2000 11 16
RASTER_ORDER: LEFT_RIGHT/TOP_BOTTOM
BAND_ORGANIZATION: SINGLE FILE
BAND_CONTENT: BLACK&WHITE
BAND_CONTENT: UNDEFINED
BAND_CONTENT: UNDEFINED
BITS_PER_PIXEL: 8
SAMPLES_AND_LINES: 5549 7646
HORIZONTAL_DATUM: NAD83
HORIZONTAL_COORDINATE_SYSTEM: UTM
COORDINATE_ZONE: 13
HORIZONTAL_UNITS: METERS
HORIZONTAL_RESOLUTION: 1.00000
SECONDARY_HORIZONTAL_DATUM: NAD27
XY_ORIGIN: 375825.00000 5199802.00000
SECONDARY_XY_ORIGIN: 375866.89400 5199582.69800
NATION: US
NATION: "SCIENCE
STATE: MT
NW_QUAD_CORNER_XY: 376315.54800 5199500.36500
NE_QUAD_CORNER_XY: 381072.56200 5199403.66400
SE_QUAD_CORNERY_XY: 380934.22200 5192458.54800
SW_QUAD_CORNER_XY: 376171.67100 5192555.26300
SECONDARY_NW_QUAD_XY: 376311.74100 5199281.89800
SECONDARY_NE_QUAD_XY: 381068.90200 5199185.19500
SECONDARY_SE_QUAD_XY: 380930.56200 5192240.10900
SECONDARY_SW_QUAD_XY: 376167.86500 5192336.82600
RMSE_XY: 1.70000
IMAGE_SOURCE: BLACK AND WHITE FILM
SOURCE_IMAGE_ID: NAPP 9110 208
SOURCE_IMAGE_DATE: 1996 08 11
SOURCE_IMAGE_ID: NAPP 9110 207
SOURCE_IMAGE_DATE: 1996 08 11
SOURCE_DEM_DATE: 1988 00 00
AGENCY: WESTERN MAPPING CENTER (WMC)
PRODUCER: UNDEFINED
PRODUCTION_SYSTEM: GIS/MAGIC
COMPRESSION: UNDEFINED
STANDARD_VERSION: 1996 12
METADATA_DATE: 2000 11 16
DATA_FILE_SIZE: 42433203
BYTE_COUNT: 5549
