FILENAME: O4610604.NES.1112338.tif
QUADRANGLE_NAME: CHRISTENSON RESERVOIR
QUADRANT: NE
WEST_LONGITUDE: -106 33 45.00000
EAST_LONGITUDE: -106 30 0.00000
NORTH_LATITUDE: 47 0 0.00000
SOUTH_LATITUDE: 46 56 15.00000
PRODUCTION_DATE: 2000 11 14
RASTER_ORDER: LEFT_RIGHT/TOP_BOTTOM
BAND_ORGANIZATION: SINGLE FILE
BAND_CONTENT: BLACK&WHITE
BAND_CONTENT: UNDEFINED
BAND_CONTENT: UNDEFINED
BITS_PER_PIXEL: 8
SAMPLES_AND_LINES: 5538 7642
HORIZONTAL_DATUM: NAD83
HORIZONTAL_COORDINATE_SYSTEM: UTM
COORDINATE_ZONE: 13
HORIZONTAL_UNITS: METERS
HORIZONTAL_RESOLUTION: 1.00000
SECONDARY_HORIZONTAL_DATUM: NAD27
XY_ORIGIN: 380726.00000 5206650.00000
SECONDARY_XY_ORIGIN: 380767.79700 5206430.65200
NATION: US
NATION: "SCIENCE
STATE: MT
NW_QUAD_CORNER_XY: 381211.04500 5206348.85000
NE_QUAD_CORNER_XY: 385962.52700 5206255.95700
SE_QUAD_CORNERY_XY: 385829.58600 5199310.75700
SW_QUAD_CORNER_XY: 381072.56200 5199403.66400
SECONDARY_NW_QUAD_XY: 381207.38400 5206130.35200
SECONDARY_NE_QUAD_XY: 385959.01300 5206037.45600
SECONDARY_SE_QUAD_XY: 385826.07200 5199092.28500
SECONDARY_SW_QUAD_XY: 381068.90200 5199185.19500
RMSE_XY: 1.10000
IMAGE_SOURCE: BLACK AND WHITE FILM
SOURCE_IMAGE_ID: NAPP 9110 073
SOURCE_IMAGE_DATE: 1996 08 11
SOURCE_DEM_DATE: 1988 00 00
AGENCY: WESTERN MAPPING CENTER (WMC)
PRODUCER: UNDEFINED
PRODUCTION_SYSTEM: GIS/MAGIC
COMPRESSION: UNDEFINED
STANDARD_VERSION: 1996 12
METADATA_DATE: 2000 11 16
DATA_FILE_SIZE: 42326934
BYTE_COUNT: 5538
