FILENAME: O4610605.SWS.1112390.tif
QUADRANGLE_NAME: HILLSIDE
QUADRANT: SW
WEST_LONGITUDE: -106 30 0.00000
EAST_LONGITUDE: -106 26 15.00000
NORTH_LATITUDE: 46 56 15.00000
SOUTH_LATITUDE: 46 52 30.00000
PRODUCTION_DATE: 2000 11 13
RASTER_ORDER: LEFT_RIGHT/TOP_BOTTOM
BAND_ORGANIZATION: SINGLE FILE
BAND_CONTENT: BLACK&WHITE
BAND_CONTENT: UNDEFINED
BAND_CONTENT: UNDEFINED
BITS_PER_PIXEL: 8
SAMPLES_AND_LINES: 5538 7638
HORIZONTAL_DATUM: NAD83
HORIZONTAL_COORDINATE_SYSTEM: UTM
COORDINATE_ZONE: 13
HORIZONTAL_UNITS: METERS
HORIZONTAL_RESOLUTION: 1.00000
SECONDARY_HORIZONTAL_DATUM: NAD27
XY_ORIGIN: 385350.00000 5199612.00000
SECONDARY_XY_ORIGIN: 385391.63900 5199392.70200
NATION: US
NATION: "SCIENCE
STATE: MT
NW_QUAD_CORNER_XY: 385829.58600 5199310.75700
NE_QUAD_CORNER_XY: 390586.61900 5199221.64400
SE_QUAD_CORNERY_XY: 390459.35000 5192276.50200
SW_QUAD_CORNER_XY: 385696.78200 5192365.62800
SECONDARY_NW_QUAD_XY: 385826.07200 5199092.28500
SECONDARY_NE_QUAD_XY: 390583.25100 5199003.16900
SECONDARY_SE_QUAD_XY: 390455.98300 5192058.05700
SECONDARY_SW_QUAD_XY: 385693.26800 5192147.18600
RMSE_XY: 1.80000
IMAGE_SOURCE: BLACK AND WHITE FILM
SOURCE_IMAGE_ID: NAPP 9106 290
SOURCE_IMAGE_DATE: 1996 08 07
SOURCE_DEM_DATE: 2000 01 01
AGENCY: WESTERN MAPPING CENTER (WMC)
PRODUCER: UNDEFINED
PRODUCTION_SYSTEM: GIS/MAGIC
COMPRESSION: UNDEFINED
STANDARD_VERSION: 1996 12
METADATA_DATE: 2000 11 16
DATA_FILE_SIZE: 42304782
BYTE_COUNT: 5538
