FILENAME: O4610605.NWS.1112388.tif
QUADRANGLE_NAME: HILLSIDE
QUADRANT: NW
WEST_LONGITUDE: -106 30 0.00000
EAST_LONGITUDE: -106 26 15.00000
NORTH_LATITUDE: 47 0 0.00000
SOUTH_LATITUDE: 46 56 15.00000
PRODUCTION_DATE: 2000 11 13
RASTER_ORDER: LEFT_RIGHT/TOP_BOTTOM
BAND_ORGANIZATION: SINGLE FILE
BAND_CONTENT: BLACK&WHITE
BAND_CONTENT: UNDEFINED
BAND_CONTENT: UNDEFINED
BITS_PER_PIXEL: 8
SAMPLES_AND_LINES: 5533 7638
HORIZONTAL_DATUM: NAD83
HORIZONTAL_COORDINATE_SYSTEM: UTM
COORDINATE_ZONE: 13
HORIZONTAL_UNITS: METERS
HORIZONTAL_RESOLUTION: 1.00000
SECONDARY_HORIZONTAL_DATUM: NAD27
XY_ORIGIN: 385483.00000 5206557.00000
SECONDARY_XY_ORIGIN: 385524.66700 5206337.66100
NATION: US
NATION: "SCIENCE
STATE: MT
NW_QUAD_CORNER_XY: 385962.52700 5206255.95700
NE_QUAD_CORNER_XY: 390714.01900 5206166.85700
SE_QUAD_CORNERY_XY: 390586.61900 5199221.64400
SW_QUAD_CORNER_XY: 385829.58600 5199310.75700
SECONDARY_NW_QUAD_XY: 385959.01300 5206037.45600
SECONDARY_NE_QUAD_XY: 390710.65100 5205948.35300
SECONDARY_SE_QUAD_XY: 390583.25100 5199003.16900
SECONDARY_SW_QUAD_XY: 385826.07200 5199092.28500
RMSE_XY: 1.70000
IMAGE_SOURCE: BLACK AND WHITE FILM
SOURCE_IMAGE_ID: NAPP 9106 288
SOURCE_IMAGE_DATE: 1996 08 07
SOURCE_DEM_DATE: 2000 01 01
AGENCY: WESTERN MAPPING CENTER (WMC)
PRODUCER: UNDEFINED
PRODUCTION_SYSTEM: GIS/MAGIC
COMPRESSION: UNDEFINED
STANDARD_VERSION: 1996 12
METADATA_DATE: 2000 11 16
DATA_FILE_SIZE: 42266587
BYTE_COUNT: 5533
