FILENAME: O4610606.SWS.1112426.tif
QUADRANGLE_NAME: COLEMAN COULEE
QUADRANT: SW
WEST_LONGITUDE: -106 22 30.00000
EAST_LONGITUDE: -106 18 45.00000
NORTH_LATITUDE: 46 56 15.00000
SOUTH_LATITUDE: 46 52 30.00000
PRODUCTION_DATE: 2000 11 13
RASTER_ORDER: LEFT_RIGHT/TOP_BOTTOM
BAND_ORGANIZATION: SINGLE FILE
BAND_CONTENT: BLACK&WHITE
BAND_CONTENT: UNDEFINED
BAND_CONTENT: UNDEFINED
BITS_PER_PIXEL: 8
SAMPLES_AND_LINES: 5526 7631
HORIZONTAL_DATUM: NAD83
HORIZONTAL_COORDINATE_SYSTEM: UTM
COORDINATE_ZONE: 13
HORIZONTAL_UNITS: METERS
HORIZONTAL_RESOLUTION: 1.00000
SECONDARY_HORIZONTAL_DATUM: NAD27
XY_ORIGIN: 394876.00000 5199438.00000
SECONDARY_XY_ORIGIN: 394917.62400 5199218.71400
NATION: US
NATION: "SCIENCE
STATE: MT
NW_QUAD_CORNER_XY: 395343.66100 5199136.32400
NE_QUAD_CORNER_XY: 400100.71000 5199054.79700
SE_QUAD_CORNERY_XY: 399984.51200 5192109.63200
SW_QUAD_CORNER_XY: 395221.92700 5192191.17000
SECONDARY_NW_QUAD_XY: 395340.43900 5198917.84700
SECONDARY_NE_QUAD_XY: 400097.63600 5198836.31800
SECONDARY_SE_QUAD_XY: 399981.43800 5191891.18200
SECONDARY_SW_QUAD_XY: 395218.70700 5191972.72200
RMSE_XY: 2.50000
IMAGE_SOURCE: BLACK AND WHITE FILM
SOURCE_IMAGE_ID: NAPP 9106 191
SOURCE_IMAGE_DATE: 1996 08 07
SOURCE_DEM_DATE: 2000 01 01
AGENCY: WESTERN MAPPING CENTER (WMC)
PRODUCER: UNDEFINED
PRODUCTION_SYSTEM: GIS/MAGIC
COMPRESSION: UNDEFINED
STANDARD_VERSION: 1996 12
METADATA_DATE: 2000 11 16
DATA_FILE_SIZE: 42174432
BYTE_COUNT: 5526
