FILENAME: O4610606.NES.1112423.tif
QUADRANGLE_NAME: COLEMAN COULEE
QUADRANT: NE
WEST_LONGITUDE: -106 18 45.00000
EAST_LONGITUDE: -106 15 0.00000
NORTH_LATITUDE: 47 0 0.00000
SOUTH_LATITUDE: 46 56 15.00000
PRODUCTION_DATE: 2000 11 14
RASTER_ORDER: LEFT_RIGHT/TOP_BOTTOM
BAND_ORGANIZATION: SINGLE FILE
BAND_CONTENT: BLACK&WHITE
BAND_CONTENT: UNDEFINED
BAND_CONTENT: UNDEFINED
BITS_PER_PIXEL: 8
SAMPLES_AND_LINES: 5515 7626
HORIZONTAL_DATUM: NAD83
HORIZONTAL_COORDINATE_SYSTEM: UTM
COORDINATE_ZONE: 13
HORIZONTAL_UNITS: METERS
HORIZONTAL_RESOLUTION: 1.00000
SECONDARY_HORIZONTAL_DATUM: NAD27
XY_ORIGIN: 399755.00000 5206301.00000
SECONDARY_XY_ORIGIN: 399796.66300 5206081.71000
NATION: US
NATION: "SCIENCE
STATE: MT
NW_QUAD_CORNER_XY: 400217.02800 5206000.03500
NE_QUAD_CORNER_XY: 404968.54600 5205922.31300
SE_QUAD_CORNERY_XY: 404857.76800 5198977.06400
SW_QUAD_CORNER_XY: 400100.71000 5199054.79700
SECONDARY_NW_QUAD_XY: 400213.95300 5205781.52600
SECONDARY_NE_QUAD_XY: 404965.61700 5205703.80200
SECONDARY_SE_QUAD_XY: 404854.84000 5198758.58200
SECONDARY_SW_QUAD_XY: 400097.63600 5198836.31800
RMSE_XY: 1.50000
IMAGE_SOURCE: BLACK AND WHITE FILM
SOURCE_IMAGE_ID: NAPP 9106 138
SOURCE_IMAGE_DATE: 1996 08 07
SOURCE_DEM_DATE: 2000 01 01
AGENCY: WESTERN MAPPING CENTER (WMC)
PRODUCER: UNDEFINED
PRODUCTION_SYSTEM: GIS/MAGIC
COMPRESSION: UNDEFINED
STANDARD_VERSION: 1996 12
METADATA_DATE: 2000 11 16
DATA_FILE_SIZE: 42062905
BYTE_COUNT: 5515
