FILENAME: O4610608.SWS.1112566.tif
QUADRANGLE_NAME: CROW ROCK
QUADRANT: SW
WEST_LONGITUDE: -106 7 30.00000
EAST_LONGITUDE: -106 3 45.00000
NORTH_LATITUDE: 46 56 15.00000
SOUTH_LATITUDE: 46 52 30.00000
PRODUCTION_DATE: 2000 11 14
RASTER_ORDER: LEFT_RIGHT/TOP_BOTTOM
BAND_ORGANIZATION: SINGLE FILE
BAND_CONTENT: BLACK&WHITE
BAND_CONTENT: UNDEFINED
BAND_CONTENT: UNDEFINED
BITS_PER_PIXEL: 8
SAMPLES_AND_LINES: 5503 7615
HORIZONTAL_DATUM: NAD83
HORIZONTAL_COORDINATE_SYSTEM: UTM
COORDINATE_ZONE: 13
HORIZONTAL_UNITS: METERS
HORIZONTAL_RESOLUTION: 1.00000
SECONDARY_HORIZONTAL_DATUM: NAD27
XY_ORIGIN: 413927.00000 5199134.00000
SECONDARY_XY_ORIGIN: 413968.57500 5198914.63400
NATION: US
NATION: "SCIENCE
STATE: MT
NW_QUAD_CORNER_XY: 414371.90600 5198832.97600
NE_QUAD_CORNER_XY: 419128.98500 5198766.62100
SE_QUAD_CORNERY_XY: 419034.92500 5191821.41500
SW_QUAD_CORNER_XY: 414272.31200 5191887.77900
SECONDARY_NW_QUAD_XY: 414369.27000 5198614.48900
SECONDARY_NE_QUAD_XY: 419126.49600 5198548.13200
SECONDARY_SE_QUAD_XY: 419032.43600 5191602.95500
SECONDARY_SW_QUAD_XY: 414269.67700 5191669.32200
RMSE_XY: 2.00000
IMAGE_SOURCE: BLACK AND WHITE FILM
SOURCE_IMAGE_ID: NAPP 9090 043
SOURCE_IMAGE_DATE: 1996 07 07
SOURCE_IMAGE_ID: NAPP 9106 040
SOURCE_IMAGE_DATE: 1996 08 07
SOURCE_DEM_DATE: 1988 00 00
AGENCY: WESTERN MAPPING CENTER (WMC)
PRODUCER: UNDEFINED
PRODUCTION_SYSTEM: GIS/MAGIC
COMPRESSION: UNDEFINED
STANDARD_VERSION: 1996 12
METADATA_DATE: 2000 11 16
DATA_FILE_SIZE: 41910848
BYTE_COUNT: 5503
