FILENAME: O4610608.SES.1112565.tif
QUADRANGLE_NAME: CROW ROCK
QUADRANT: SE
WEST_LONGITUDE: -106 3 45.00000
EAST_LONGITUDE: -106 0 0.00000
NORTH_LATITUDE: 46 56 15.00000
SOUTH_LATITUDE: 46 52 30.00000
PRODUCTION_DATE: 2000 11 14
RASTER_ORDER: LEFT_RIGHT/TOP_BOTTOM
BAND_ORGANIZATION: SINGLE FILE
BAND_CONTENT: BLACK&WHITE
BAND_CONTENT: UNDEFINED
BAND_CONTENT: UNDEFINED
BITS_PER_PIXEL: 8
SAMPLES_AND_LINES: 5499 7612
HORIZONTAL_DATUM: NAD83
HORIZONTAL_COORDINATE_SYSTEM: UTM
COORDINATE_ZONE: 13
HORIZONTAL_UNITS: METERS
HORIZONTAL_RESOLUTION: 1.00000
SECONDARY_HORIZONTAL_DATUM: NAD27
XY_ORIGIN: 418689.00000 5199068.00000
SECONDARY_XY_ORIGIN: 418730.55900 5198848.58900
NATION: US
NATION: "SCIENCE
STATE: MT
NW_QUAD_CORNER_XY: 419128.98500 5198766.62100
NE_QUAD_CORNER_XY: 423886.07100 5198704.05800
SE_QUAD_CORNERY_XY: 423797.54500 5191758.84300
SW_QUAD_CORNER_XY: 419034.92500 5191821.41500
SECONDARY_NW_QUAD_XY: 419126.49600 5198548.13200
SECONDARY_NE_QUAD_XY: 423883.72800 5198485.56800
SECONDARY_SE_QUAD_XY: 423795.20200 5191540.38200
SECONDARY_SW_QUAD_XY: 419032.43600 5191602.95500
RMSE_XY: 1.80000
IMAGE_SOURCE: BLACK AND WHITE FILM
SOURCE_IMAGE_ID: NAPP 9089 064
SOURCE_IMAGE_DATE: 1996 07 07
SOURCE_DEM_DATE: 1988 00 00
AGENCY: WESTERN MAPPING CENTER (WMC)
PRODUCER: UNDEFINED
PRODUCTION_SYSTEM: GIS/MAGIC
COMPRESSION: UNDEFINED
STANDARD_VERSION: 1996 12
METADATA_DATE: 2000 11 16
DATA_FILE_SIZE: 41863887
BYTE_COUNT: 5499
