FILENAME: O4610611.NES.1008672.tif
QUADRANGLE_NAME: NEEDLE BUTTE RESERVOIR
QUADRANT: NE
WEST_LONGITUDE: -106 41 15.00000
EAST_LONGITUDE: -106 37 30.00000
NORTH_LATITUDE: 46 52 30.00000
SOUTH_LATITUDE: 46 48 45.00000
PRODUCTION_DATE: 1999 5 14
RASTER_ORDER: LEFT_RIGHT/TOP_BOTTOM
BAND_ORGANIZATION: SINGLE FILE
BAND_CONTENT: BLACK&WHITE
BAND_CONTENT: UNDEFINED
BAND_CONTENT: UNDEFINED
BITS_PER_PIXEL: 8
SAMPLES_AND_LINES: 5561 7649
HORIZONTAL_DATUM: NAD83
HORIZONTAL_COORDINATE_SYSTEM: UTM
COORDINATE_ZONE: 13
HORIZONTAL_UNITS: METERS
HORIZONTAL_RESOLUTION: 1.00000
SECONDARY_HORIZONTAL_DATUM: NAD27
XY_ORIGIN: 370912.00000 5192957.00000
SECONDARY_XY_ORIGIN: 370953.99800 5192737.76000
NATION: US
NATION: "SCIENCE
STATE: MT
NW_QUAD_CORNER_XY: 371409.13000 5192655.77200
NE_QUAD_CORNER_XY: 376171.67100 5192555.26300
SE_QUAD_CORNERY_XY: 376027.94300 5185610.23100
SW_QUAD_CORNER_XY: 371259.87100 5185710.75400
SECONDARY_NW_QUAD_XY: 371405.17700 5192437.33800
SECONDARY_NE_QUAD_XY: 376167.86500 5192336.82600
SECONDARY_SE_QUAD_XY: 376024.13700 5185391.82500
SECONDARY_SW_QUAD_XY: 371255.91900 5185492.35100
RMSE_XY: 1.90000
IMAGE_SOURCE: BLACK AND WHITE FILM
SOURCE_IMAGE_ID: NAPP 9111 087
SOURCE_IMAGE_DATE: 1996 08 11
SOURCE_IMAGE_ID: NAPP 9111 086
SOURCE_IMAGE_DATE: 1996 08 11
SOURCE_DEM_DATE: 1988 00 00
AGENCY: WESTERN MAPPING CENTER (WMC)
PRODUCER: UNDEFINED
PRODUCTION_SYSTEM: GIS/MAGIC
COMPRESSION: UNDEFINED
STANDARD_VERSION: 1996 12
METADATA_DATE: 1999 05 24
DATA_FILE_SIZE: 42541650
BYTE_COUNT: 5561
