FILENAME: O4610613.SES.1008340.tif
QUADRANGLE_NAME: CLEAR WATER RESERVOIR
QUADRANT: SE
WEST_LONGITUDE: -106 26 15.00000
EAST_LONGITUDE: -106 22 30.00000
NORTH_LATITUDE: 46 48 45.00000
SOUTH_LATITUDE: 46 45 0.00000
PRODUCTION_DATE: 1999 5 14
RASTER_ORDER: LEFT_RIGHT/TOP_BOTTOM
BAND_ORGANIZATION: SINGLE FILE
BAND_CONTENT: BLACK&WHITE
BAND_CONTENT: UNDEFINED
BAND_CONTENT: UNDEFINED
BITS_PER_PIXEL: 8
SAMPLES_AND_LINES: 5543 7634
HORIZONTAL_DATUM: NAD83
HORIZONTAL_COORDINATE_SYSTEM: UTM
COORDINATE_ZONE: 13
HORIZONTAL_UNITS: METERS
HORIZONTAL_RESOLUTION: 1.00000
SECONDARY_HORIZONTAL_DATUM: NAD27
XY_ORIGIN: 389859.00000 5185633.00000
SECONDARY_XY_ORIGIN: 389900.56200 5185413.77100
NATION: US
NATION: "SCIENCE
STATE: MT
NW_QUAD_CORNER_XY: 390332.21300 5185331.43200
NE_QUAD_CORNER_XY: 395100.32000 5185246.08800
SE_QUAD_CORNERY_XY: 394978.83800 5178301.07800
SW_QUAD_CORNER_XY: 390205.20700 5178386.43300
SECONDARY_NW_QUAD_XY: 390328.84600 5185113.01700
SECONDARY_NE_QUAD_XY: 395097.09900 5185027.67100
SECONDARY_SE_QUAD_XY: 394975.61800 5178082.69200
SECONDARY_SW_QUAD_XY: 390201.84100 5178168.05000
RMSE_XY: 2.20000
IMAGE_SOURCE: BLACK AND WHITE FILM
SOURCE_IMAGE_ID: NAPP 9106 263
SOURCE_IMAGE_DATE: 1996 08 07
SOURCE_IMAGE_ID: NAPP 9106 294
SOURCE_IMAGE_DATE: 1996 08 07
SOURCE_IMAGE_ID: NAPP 9106 262
SOURCE_IMAGE_DATE: 1996 08 07
SOURCE_IMAGE_ID: NAPP 9106 265
SOURCE_IMAGE_DATE: 1996 08 07
SOURCE_IMAGE_ID: NAPP 9106 195
SOURCE_IMAGE_DATE: 1996 08 07
SOURCE_DEM_DATE: 1997 01 01
AGENCY: WESTERN MAPPING CENTER (WMC)
PRODUCER: UNDEFINED
PRODUCTION_SYSTEM: GIS/MAGIC
COMPRESSION: UNDEFINED
STANDARD_VERSION: 1996 12
METADATA_DATE: 1999 06 02
DATA_FILE_SIZE: 42320805
BYTE_COUNT: 5543
