FILENAME: O4610613.NWS.1008339.tif
QUADRANGLE_NAME: CLEAR WATER RESERVOIR
QUADRANT: NW
WEST_LONGITUDE: -106 30 0.00000
EAST_LONGITUDE: -106 26 15.00000
NORTH_LATITUDE: 46 52 30.00000
SOUTH_LATITUDE: 46 48 45.00000
PRODUCTION_DATE: 1999 5 14
RASTER_ORDER: LEFT_RIGHT/TOP_BOTTOM
BAND_ORGANIZATION: SINGLE FILE
BAND_CONTENT: BLACK&WHITE
BAND_CONTENT: UNDEFINED
BAND_CONTENT: UNDEFINED
BITS_PER_PIXEL: 8
SAMPLES_AND_LINES: 5543 7638
HORIZONTAL_DATUM: NAD83
HORIZONTAL_COORDINATE_SYSTEM: UTM
COORDINATE_ZONE: 13
HORIZONTAL_UNITS: METERS
HORIZONTAL_RESOLUTION: 1.00000
SECONDARY_HORIZONTAL_DATUM: NAD27
XY_ORIGIN: 385218.00000 5192667.00000
SECONDARY_XY_ORIGIN: 385259.61100 5192447.74300
NATION: US
NATION: "SCIENCE
STATE: MT
NW_QUAD_CORNER_XY: 385696.78200 5192365.62800
NE_QUAD_CORNER_XY: 390459.35000 5192276.50200
SE_QUAD_CORNERY_XY: 390332.21300 5185331.43200
SW_QUAD_CORNER_XY: 385564.11400 5185420.57000
SECONDARY_NW_QUAD_XY: 385693.26800 5192147.18600
SECONDARY_NE_QUAD_XY: 390455.98300 5192058.05700
SECONDARY_SE_QUAD_XY: 390328.84600 5185113.01700
SECONDARY_SW_QUAD_XY: 385560.60100 5185202.15800
RMSE_XY: 1.70000
IMAGE_SOURCE: BLACK AND WHITE FILM
SOURCE_IMAGE_ID: NAPP 9106 292
SOURCE_IMAGE_DATE: 1996 08 07
SOURCE_IMAGE_ID: NAPP 9106 294
SOURCE_IMAGE_DATE: 1996 08 07
SOURCE_IMAGE_ID: NAPP 9106 265
SOURCE_IMAGE_DATE: 1996 08 07
SOURCE_DEM_DATE: 1997 01 01
AGENCY: WESTERN MAPPING CENTER (WMC)
PRODUCER: UNDEFINED
PRODUCTION_SYSTEM: GIS/MAGIC
COMPRESSION: UNDEFINED
STANDARD_VERSION: 1996 12
METADATA_DATE: 1999 06 02
DATA_FILE_SIZE: 42342977
BYTE_COUNT: 5543
