FILENAME: O4610614.NWS.1009095.tif
QUADRANGLE_NAME: RED BUTTES
QUADRANT: NW
WEST_LONGITUDE: -106 22 30.00000
EAST_LONGITUDE: -106 18 45.00000
NORTH_LATITUDE: 46 52 30.00000
SOUTH_LATITUDE: 46 48 45.00000
PRODUCTION_DATE: 1999 5 18
RASTER_ORDER: LEFT_RIGHT/TOP_BOTTOM
BAND_ORGANIZATION: SINGLE FILE
BAND_CONTENT: BLACK&WHITE
BAND_CONTENT: UNDEFINED
BAND_CONTENT: UNDEFINED
BITS_PER_PIXEL: 8
SAMPLES_AND_LINES: 5532 7630
HORIZONTAL_DATUM: NAD83
HORIZONTAL_COORDINATE_SYSTEM: UTM
COORDINATE_ZONE: 13
HORIZONTAL_UNITS: METERS
HORIZONTAL_RESOLUTION: 1.00000
SECONDARY_HORIZONTAL_DATUM: NAD27
XY_ORIGIN: 394754.00000 5192492.00000
SECONDARY_XY_ORIGIN: 394795.58300 5192272.73500
NATION: US
NATION: "SCIENCE
STATE: MT
NW_QUAD_CORNER_XY: 395221.92700 5192191.17000
NE_QUAD_CORNER_XY: 399984.51200 5192109.63200
SE_QUAD_CORNERY_XY: 399868.43400 5185164.53900
SW_QUAD_CORNER_XY: 395100.32000 5185246.08800
SECONDARY_NW_QUAD_XY: 395218.70700 5191972.72200
SECONDARY_NE_QUAD_XY: 399981.43800 5191891.18200
SECONDARY_SE_QUAD_XY: 399865.36000 5184946.11900
SECONDARY_SW_QUAD_XY: 395097.09900 5185027.67100
RMSE_XY: 1.90000
IMAGE_SOURCE: BLACK AND WHITE FILM
SOURCE_IMAGE_ID: NAPP 9106 134
SOURCE_IMAGE_DATE: 1996 08 07
SOURCE_IMAGE_ID: NAPP 9106 265
SOURCE_IMAGE_DATE: 1996 08 07
SOURCE_IMAGE_ID: NAPP 9106 195
SOURCE_IMAGE_DATE: 1996 08 07
SOURCE_IMAGE_ID: NAPP 9106 194
SOURCE_IMAGE_DATE: 1996 08 07
SOURCE_IMAGE_ID: NAPP 9106 192
SOURCE_IMAGE_DATE: 1996 08 07
SOURCE_DEM_DATE: 1988 00 00
AGENCY: WESTERN MAPPING CENTER (WMC)
PRODUCER: UNDEFINED
PRODUCTION_SYSTEM: GIS/MAGIC
COMPRESSION: UNDEFINED
STANDARD_VERSION: 1996 12
METADATA_DATE: 1999 06 02
DATA_FILE_SIZE: 42214692
BYTE_COUNT: 5532
