FILENAME: O4610616.NWS.1009296.tif
QUADRANGLE_NAME: CROW ROCK SE
QUADRANT: NW
WEST_LONGITUDE: -106 7 30.00000
EAST_LONGITUDE: -106 3 45.00000
NORTH_LATITUDE: 46 52 30.00000
SOUTH_LATITUDE: 46 48 45.00000
PRODUCTION_DATE: 1999 5 18
RASTER_ORDER: LEFT_RIGHT/TOP_BOTTOM
BAND_ORGANIZATION: SINGLE FILE
BAND_CONTENT: BLACK&WHITE
BAND_CONTENT: UNDEFINED
BAND_CONTENT: UNDEFINED
BITS_PER_PIXEL: 8
SAMPLES_AND_LINES: 5509 7615
HORIZONTAL_DATUM: NAD83
HORIZONTAL_COORDINATE_SYSTEM: UTM
COORDINATE_ZONE: 13
HORIZONTAL_UNITS: METERS
HORIZONTAL_RESOLUTION: 1.00000
SECONDARY_HORIZONTAL_DATUM: NAD27
XY_ORIGIN: 413827.00000 5192189.00000
SECONDARY_XY_ORIGIN: 413868.51600 5191969.65100
NATION: US
NATION: "SCIENCE
STATE: MT
NW_QUAD_CORNER_XY: 414272.31200 5191887.77900
NE_QUAD_CORNER_XY: 419034.92500 5191821.41500
SE_QUAD_CORNERY_XY: 418940.96200 5184876.28200
SW_QUAD_CORNER_XY: 414172.82000 5184942.65500
SECONDARY_NW_QUAD_XY: 414269.67700 5191669.32200
SECONDARY_NE_QUAD_XY: 419032.43600 5191602.95500
SECONDARY_SE_QUAD_XY: 418938.47400 5184657.85300
SECONDARY_SW_QUAD_XY: 414170.18600 5184724.22900
RMSE_XY: 2.10000
IMAGE_SOURCE: BLACK AND WHITE FILM
SOURCE_IMAGE_ID: NAPP 9090 045
SOURCE_IMAGE_DATE: 1996 07 07
SOURCE_IMAGE_ID: NAPP 9106 038
SOURCE_IMAGE_DATE: 1996 08 07
SOURCE_IMAGE_ID: NAPP 9090 047
SOURCE_IMAGE_DATE: 1996 07 07
SOURCE_IMAGE_ID: NAPP 9090 044
SOURCE_IMAGE_DATE: 1996 07 07
SOURCE_IMAGE_ID: NAPP 9089 062
SOURCE_IMAGE_DATE: 1996 07 07
SOURCE_DEM_DATE: 1988 00 00
AGENCY: WESTERN MAPPING CENTER (WMC)
PRODUCER: UNDEFINED
PRODUCTION_SYSTEM: GIS/MAGIC
COMPRESSION: UNDEFINED
STANDARD_VERSION: 1996 12
METADATA_DATE: 1999 06 02
DATA_FILE_SIZE: 41956544
BYTE_COUNT: 5509
