FILENAME: O4610617.SWS.1008643.tif
QUADRANGLE_NAME: FLAT BOTTOM COULEE NW
QUADRANT: SW
WEST_LONGITUDE: -107 0 0.00000
EAST_LONGITUDE: -106 56 15.00000
NORTH_LATITUDE: 46 41 15.00000
SOUTH_LATITUDE: 46 37 30.00000
PRODUCTION_DATE: 1999 5 19
RASTER_ORDER: LEFT_RIGHT/TOP_BOTTOM
BAND_ORGANIZATION: SINGLE FILE
BAND_CONTENT: BLACK&WHITE
BAND_CONTENT: UNDEFINED
BAND_CONTENT: UNDEFINED
BITS_PER_PIXEL: 8
SAMPLES_AND_LINES: 5606 7668
HORIZONTAL_DATUM: NAD83
HORIZONTAL_COORDINATE_SYSTEM: UTM
COORDINATE_ZONE: 13
HORIZONTAL_UNITS: METERS
HORIZONTAL_RESOLUTION: 1.00000
SECONDARY_HORIZONTAL_DATUM: NAD27
XY_ORIGIN: 346541.00000 5172682.00000
SECONDARY_XY_ORIGIN: 346583.48900 5172463.24800
NATION: US
NATION: "SCIENCE
STATE: MT
NW_QUAD_CORNER_XY: 347066.37200 5172380.62400
NE_QUAD_CORNER_XY: 351845.44100 5172261.09000
SE_QUAD_CORNERY_XY: 351674.58700 5165316.33600
SW_QUAD_CORNER_XY: 346890.00200 5165435.88400
SECONDARY_NW_QUAD_XY: 347061.68900 5172162.30100
SECONDARY_NE_QUAD_XY: 351840.90500 5172042.76400
SECONDARY_SE_QUAD_XY: 351670.05100 5165098.04300
SECONDARY_SW_QUAD_XY: 346885.32100 5165217.59400
RMSE_XY: 0.90000
IMAGE_SOURCE: BLACK AND WHITE FILM
SOURCE_IMAGE_ID: NAPP 9099 065
SOURCE_IMAGE_DATE: 1996 07 14
SOURCE_DEM_DATE: 1968 00 00
AGENCY: WESTERN MAPPING CENTER (WMC)
PRODUCER: UNDEFINED
PRODUCTION_SYSTEM: GIS/MAGIC
COMPRESSION: UNDEFINED
STANDARD_VERSION: 1996 12
METADATA_DATE: 1999 05 24
DATA_FILE_SIZE: 42992414
BYTE_COUNT: 5606
