FILENAME: O4610618.NWS.1008653.tif
QUADRANGLE_NAME: FLAT BOTTOM COULEE NE
QUADRANT: NW
WEST_LONGITUDE: -106 52 30.00000
EAST_LONGITUDE: -106 48 45.00000
NORTH_LATITUDE: 46 45 0.00000
SOUTH_LATITUDE: 46 41 15.00000
PRODUCTION_DATE: 1999 5 18
RASTER_ORDER: LEFT_RIGHT/TOP_BOTTOM
BAND_ORGANIZATION: SINGLE FILE
BAND_CONTENT: BLACK&WHITE
BAND_CONTENT: UNDEFINED
BAND_CONTENT: UNDEFINED
BITS_PER_PIXEL: 8
SAMPLES_AND_LINES: 5589 7660
HORIZONTAL_DATUM: NAD83
HORIZONTAL_COORDINATE_SYSTEM: UTM
COORDINATE_ZONE: 13
HORIZONTAL_UNITS: METERS
HORIZONTAL_RESOLUTION: 1.00000
SECONDARY_HORIZONTAL_DATUM: NAD27
XY_ORIGIN: 356276.00000 5179391.00000
SECONDARY_XY_ORIGIN: 356318.31600 5179172.00100
NATION: US
NATION: "SCIENCE
STATE: MT
NW_QUAD_CORNER_XY: 356790.03100 5179090.19100
NE_QUAD_CORNER_XY: 361563.59900 5178978.26600
SE_QUAD_CORNERY_XY: 361403.60900 5172033.41500
SW_QUAD_CORNER_XY: 356624.52000 5172145.35400
SECONDARY_NW_QUAD_XY: 356785.64000 5178871.82900
SECONDARY_NE_QUAD_XY: 361559.35500 5178759.90100
SECONDARY_SE_QUAD_XY: 361399.36600 5171815.08200
SECONDARY_SW_QUAD_XY: 356620.13000 5171927.02400
RMSE_XY: 1.50000
IMAGE_SOURCE: BLACK AND WHITE FILM
SOURCE_IMAGE_ID: NAPP 10723 029
SOURCE_IMAGE_DATE: 1997 08 28
SOURCE_DEM_DATE: 1968 00 00
AGENCY: WESTERN MAPPING CENTER (WMC)
PRODUCER: UNDEFINED
PRODUCTION_SYSTEM: GIS/MAGIC
COMPRESSION: UNDEFINED
STANDARD_VERSION: 1996 12
METADATA_DATE: 1999 05 24
DATA_FILE_SIZE: 42817329
BYTE_COUNT: 5589
