FILENAME: O4610618.NES.1008652.tif
QUADRANGLE_NAME: FLAT BOTTOM COULEE NE
QUADRANT: NE
WEST_LONGITUDE: -106 48 45.00000
EAST_LONGITUDE: -106 45 0.00000
NORTH_LATITUDE: 46 45 0.00000
SOUTH_LATITUDE: 46 41 15.00000
PRODUCTION_DATE: 1999 5 18
RASTER_ORDER: LEFT_RIGHT/TOP_BOTTOM
BAND_ORGANIZATION: SINGLE FILE
BAND_CONTENT: BLACK&WHITE
BAND_CONTENT: UNDEFINED
BAND_CONTENT: UNDEFINED
BITS_PER_PIXEL: 8
SAMPLES_AND_LINES: 5583 7656
HORIZONTAL_DATUM: NAD83
HORIZONTAL_COORDINATE_SYSTEM: UTM
COORDINATE_ZONE: 13
HORIZONTAL_UNITS: METERS
HORIZONTAL_RESOLUTION: 1.00000
SECONDARY_HORIZONTAL_DATUM: NAD27
XY_ORIGIN: 361056.00000 5179279.00000
SECONDARY_XY_ORIGIN: 361098.20300 5179059.95600
NATION: US
NATION: "SCIENCE
STATE: MT
NW_QUAD_CORNER_XY: 361563.59900 5178978.26600
NE_QUAD_CORNER_XY: 366337.17800 5178870.13800
SE_QUAD_CORNERY_XY: 366182.70800 5171925.27300
SW_QUAD_CORNER_XY: 361403.60900 5172033.41500
SECONDARY_NW_QUAD_XY: 361559.35500 5178759.90100
SECONDARY_NE_QUAD_XY: 366333.08000 5178651.76900
SECONDARY_SE_QUAD_XY: 366178.61100 5171706.93600
SECONDARY_SW_QUAD_XY: 361399.36600 5171815.08200
RMSE_XY: 0.90000
IMAGE_SOURCE: BLACK AND WHITE FILM
SOURCE_IMAGE_ID: NAPP 9109 019
SOURCE_IMAGE_DATE: 1996 08 11
SOURCE_DEM_DATE: 1968 00 00
AGENCY: WESTERN MAPPING CENTER (WMC)
PRODUCER: UNDEFINED
PRODUCTION_SYSTEM: GIS/MAGIC
COMPRESSION: UNDEFINED
STANDARD_VERSION: 1996 12
METADATA_DATE: 1999 05 24
DATA_FILE_SIZE: 42749031
BYTE_COUNT: 5583
