FILENAME: O4610619.SWS.1008663.tif
QUADRANGLE_NAME: RUDIE COULEE
QUADRANT: SW
WEST_LONGITUDE: -106 45 0.00000
EAST_LONGITUDE: -106 41 15.00000
NORTH_LATITUDE: 46 41 15.00000
SOUTH_LATITUDE: 46 37 30.00000
PRODUCTION_DATE: 1999 5 18
RASTER_ORDER: LEFT_RIGHT/TOP_BOTTOM
BAND_ORGANIZATION: SINGLE FILE
BAND_CONTENT: BLACK&WHITE
BAND_CONTENT: UNDEFINED
BAND_CONTENT: UNDEFINED
BITS_PER_PIXEL: 8
SAMPLES_AND_LINES: 5582 7652
HORIZONTAL_DATUM: NAD83
HORIZONTAL_COORDINATE_SYSTEM: UTM
COORDINATE_ZONE: 13
HORIZONTAL_UNITS: METERS
HORIZONTAL_RESOLUTION: 1.00000
SECONDARY_HORIZONTAL_DATUM: NAD27
XY_ORIGIN: 365681.00000 5172226.00000
SECONDARY_XY_ORIGIN: 365723.03500 5172007.02100
NATION: US
NATION: "SCIENCE
STATE: MT
NW_QUAD_CORNER_XY: 366182.70800 5171925.27300
NE_QUAD_CORNER_XY: 370961.81600 5171820.92700
SE_QUAD_CORNERY_XY: 370813.02000 5164876.11800
SW_QUAD_CORNER_XY: 366028.39800 5164980.47700
SECONDARY_NW_QUAD_XY: 366178.61100 5171706.93600
SECONDARY_NE_QUAD_XY: 370957.86500 5171602.58800
SECONDARY_SE_QUAD_XY: 370809.07000 5164657.81200
SECONDARY_SW_QUAD_XY: 366024.30200 5164762.17300
RMSE_XY: 1.10000
IMAGE_SOURCE: BLACK AND WHITE FILM
SOURCE_IMAGE_ID: NAPP 9111 234
SOURCE_IMAGE_DATE: 1996 08 11
SOURCE_DEM_DATE: 1968 00 00
AGENCY: WESTERN MAPPING CENTER (WMC)
PRODUCER: UNDEFINED
PRODUCTION_SYSTEM: GIS/MAGIC
COMPRESSION: UNDEFINED
STANDARD_VERSION: 1996 12
METADATA_DATE: 1999 05 24
DATA_FILE_SIZE: 42719046
BYTE_COUNT: 5582
