FILENAME: O4610619.NWS.1008661.tif
QUADRANGLE_NAME: RUDIE COULEE
QUADRANT: NW
WEST_LONGITUDE: -106 45 0.00000
EAST_LONGITUDE: -106 41 15.00000
NORTH_LATITUDE: 46 45 0.00000
SOUTH_LATITUDE: 46 41 15.00000
PRODUCTION_DATE: 1999 5 18
RASTER_ORDER: LEFT_RIGHT/TOP_BOTTOM
BAND_ORGANIZATION: SINGLE FILE
BAND_CONTENT: BLACK&WHITE
BAND_CONTENT: UNDEFINED
BAND_CONTENT: UNDEFINED
BITS_PER_PIXEL: 8
SAMPLES_AND_LINES: 5577 7653
HORIZONTAL_DATUM: NAD83
HORIZONTAL_COORDINATE_SYSTEM: UTM
COORDINATE_ZONE: 13
HORIZONTAL_UNITS: METERS
HORIZONTAL_RESOLUTION: 1.00000
SECONDARY_HORIZONTAL_DATUM: NAD27
XY_ORIGIN: 365835.00000 5179171.00000
SECONDARY_XY_ORIGIN: 365877.08900 5178951.90900
NATION: US
NATION: "SCIENCE
STATE: MT
NW_QUAD_CORNER_XY: 366337.17800 5178870.13800
NE_QUAD_CORNER_XY: 371110.76600 5178765.80600
SE_QUAD_CORNERY_XY: 370961.81600 5171820.92700
SW_QUAD_CORNER_XY: 366182.70800 5171925.27300
SECONDARY_NW_QUAD_XY: 366333.08000 5178651.76900
SECONDARY_NE_QUAD_XY: 371106.81500 5178547.43400
SECONDARY_SE_QUAD_XY: 370957.86500 5171602.58800
SECONDARY_SW_QUAD_XY: 366178.61100 5171706.93600
RMSE_XY: 1.50000
IMAGE_SOURCE: BLACK AND WHITE FILM
SOURCE_IMAGE_ID: NAPP 9111 232
SOURCE_IMAGE_DATE: 1996 08 11
SOURCE_IMAGE_ID: NAPP 9111 230
SOURCE_IMAGE_DATE: 1996 08 11
SOURCE_DEM_DATE: 1968 00 00
AGENCY: WESTERN MAPPING CENTER (WMC)
PRODUCER: UNDEFINED
PRODUCTION_SYSTEM: GIS/MAGIC
COMPRESSION: UNDEFINED
STANDARD_VERSION: 1996 12
METADATA_DATE: 1999 05 24
DATA_FILE_SIZE: 42686358
BYTE_COUNT: 5577
