FILENAME: O4610619.NES.1008660.tif
QUADRANGLE_NAME: RUDIE COULEE
QUADRANT: NE
WEST_LONGITUDE: -106 41 15.00000
EAST_LONGITUDE: -106 37 30.00000
NORTH_LATITUDE: 46 45 0.00000
SOUTH_LATITUDE: 46 41 15.00000
PRODUCTION_DATE: 1999 5 18
RASTER_ORDER: LEFT_RIGHT/TOP_BOTTOM
BAND_ORGANIZATION: SINGLE FILE
BAND_CONTENT: BLACK&WHITE
BAND_CONTENT: UNDEFINED
BAND_CONTENT: UNDEFINED
BITS_PER_PIXEL: 8
SAMPLES_AND_LINES: 5572 7649
HORIZONTAL_DATUM: NAD83
HORIZONTAL_COORDINATE_SYSTEM: UTM
COORDINATE_ZONE: 13
HORIZONTAL_UNITS: METERS
HORIZONTAL_RESOLUTION: 1.00000
SECONDARY_HORIZONTAL_DATUM: NAD27
XY_ORIGIN: 370614.00000 5179067.00000
SECONDARY_XY_ORIGIN: 370655.95600 5178847.89000
NATION: US
NATION: "SCIENCE
STATE: MT
NW_QUAD_CORNER_XY: 371110.76600 5178765.80600
NE_QUAD_CORNER_XY: 375884.36300 5178665.26900
SE_QUAD_CORNERY_XY: 375740.93200 5171720.37800
SW_QUAD_CORNER_XY: 370961.81600 5171820.92700
SECONDARY_NW_QUAD_XY: 371106.81500 5178547.43400
SECONDARY_NE_QUAD_XY: 375880.55800 5178446.89500
SECONDARY_SE_QUAD_XY: 375737.12800 5171502.03500
SECONDARY_SW_QUAD_XY: 370957.86500 5171602.58800
RMSE_XY: 1.50000
IMAGE_SOURCE: BLACK AND WHITE FILM
SOURCE_IMAGE_ID: NAPP 9111 083
SOURCE_IMAGE_DATE: 1996 08 11
SOURCE_DEM_DATE: 1968 00 00
AGENCY: WESTERN MAPPING CENTER (WMC)
PRODUCER: UNDEFINED
PRODUCTION_SYSTEM: GIS/MAGIC
COMPRESSION: UNDEFINED
STANDARD_VERSION: 1996 12
METADATA_DATE: 1999 05 24
DATA_FILE_SIZE: 42625800
BYTE_COUNT: 5572
