FILENAME: O4610620.SWS.1008269.tif
QUADRANGLE_NAME: ROUGH CREEK NE
QUADRANT: SW
WEST_LONGITUDE: -106 37 30.00000
EAST_LONGITUDE: -106 33 45.00000
NORTH_LATITUDE: 46 41 15.00000
SOUTH_LATITUDE: 46 37 30.00000
PRODUCTION_DATE: 1999 5 18
RASTER_ORDER: LEFT_RIGHT/TOP_BOTTOM
BAND_ORGANIZATION: SINGLE FILE
BAND_CONTENT: BLACK&WHITE
BAND_CONTENT: UNDEFINED
BAND_CONTENT: UNDEFINED
BITS_PER_PIXEL: 8
SAMPLES_AND_LINES: 5571 7646
HORIZONTAL_DATUM: NAD83
HORIZONTAL_COORDINATE_SYSTEM: UTM
COORDINATE_ZONE: 13
HORIZONTAL_UNITS: METERS
HORIZONTAL_RESOLUTION: 1.00000
SECONDARY_HORIZONTAL_DATUM: NAD27
XY_ORIGIN: 375251.00000 5172022.00000
SECONDARY_XY_ORIGIN: 375292.78600 5171802.94800
NATION: US
NATION: "SCIENCE
STATE: MT
NW_QUAD_CORNER_XY: 375740.93200 5171720.37800
NE_QUAD_CORNER_XY: 380520.05800 5171623.62500
SE_QUAD_CORNERY_XY: 380382.28900 5164678.79100
SW_QUAD_CORNER_XY: 375597.65000 5164775.55600
SECONDARY_NW_QUAD_XY: 375737.12800 5171502.03500
SECONDARY_NE_QUAD_XY: 380516.40000 5171405.27900
SECONDARY_SE_QUAD_XY: 380378.63200 5164460.47900
SECONDARY_SW_QUAD_XY: 375593.84700 5164557.24700
RMSE_XY: 1.10000
IMAGE_SOURCE: BLACK AND WHITE FILM
SOURCE_IMAGE_ID: NAPP 9110 216
SOURCE_IMAGE_DATE: 1996 08 11
SOURCE_IMAGE_ID: NAPP 9110 215
SOURCE_IMAGE_DATE: 1996 08 11
SOURCE_DEM_DATE: 1968 00 00
AGENCY: WESTERN MAPPING CENTER (WMC)
PRODUCER: UNDEFINED
PRODUCTION_SYSTEM: GIS/MAGIC
COMPRESSION: UNDEFINED
STANDARD_VERSION: 1996 12
METADATA_DATE: 1999 06 02
DATA_FILE_SIZE: 42601437
BYTE_COUNT: 5571
