FILENAME: O4610620.SES.1008268.tif
QUADRANGLE_NAME: ROUGH CREEK NE
QUADRANT: SE
WEST_LONGITUDE: -106 33 45.00000
EAST_LONGITUDE: -106 30 0.00000
NORTH_LATITUDE: 46 41 15.00000
SOUTH_LATITUDE: 46 37 30.00000
PRODUCTION_DATE: 1999 5 18
RASTER_ORDER: LEFT_RIGHT/TOP_BOTTOM
BAND_ORGANIZATION: SINGLE FILE
BAND_CONTENT: BLACK&WHITE
BAND_CONTENT: UNDEFINED
BAND_CONTENT: UNDEFINED
BITS_PER_PIXEL: 8
SAMPLES_AND_LINES: 5565 7642
HORIZONTAL_DATUM: NAD83
HORIZONTAL_COORDINATE_SYSTEM: UTM
COORDINATE_ZONE: 13
HORIZONTAL_UNITS: METERS
HORIZONTAL_RESOLUTION: 1.00000
SECONDARY_HORIZONTAL_DATUM: NAD27
XY_ORIGIN: 380036.00000 5171925.00000
SECONDARY_XY_ORIGIN: 380077.66200 5171705.91100
NATION: US
NATION: "SCIENCE
STATE: MT
NW_QUAD_CORNER_XY: 380520.05800 5171623.62500
NE_QUAD_CORNER_XY: 385299.19100 5171530.66700
SE_QUAD_CORNERY_XY: 385166.93600 5164585.82300
SW_QUAD_CORNER_XY: 380382.28900 5164678.79100
SECONDARY_NW_QUAD_XY: 380516.40000 5171405.27900
SECONDARY_NE_QUAD_XY: 385295.67900 5171312.31900
SECONDARY_SE_QUAD_XY: 385163.42400 5164367.50700
SECONDARY_SW_QUAD_XY: 380378.63200 5164460.47900
RMSE_XY: 1.60000
IMAGE_SOURCE: BLACK AND WHITE FILM
SOURCE_IMAGE_ID: NAPP 9110 063
SOURCE_IMAGE_DATE: 1996 08 11
SOURCE_DEM_DATE: 1968 00 00
AGENCY: WESTERN MAPPING CENTER (WMC)
PRODUCER: UNDEFINED
PRODUCTION_SYSTEM: GIS/MAGIC
COMPRESSION: UNDEFINED
STANDARD_VERSION: 1996 12
METADATA_DATE: 1999 06 02
DATA_FILE_SIZE: 42533295
BYTE_COUNT: 5565
