FILENAME: O4610622.NWS.1009099.tif
QUADRANGLE_NAME: ALKALI CREEK
QUADRANT: NW
WEST_LONGITUDE: -106 22 30.00000
EAST_LONGITUDE: -106 18 45.00000
NORTH_LATITUDE: 46 45 0.00000
SOUTH_LATITUDE: 46 41 15.00000
PRODUCTION_DATE: 1999 5 18
RASTER_ORDER: LEFT_RIGHT/TOP_BOTTOM
BAND_ORGANIZATION: SINGLE FILE
BAND_CONTENT: BLACK&WHITE
BAND_CONTENT: UNDEFINED
BAND_CONTENT: UNDEFINED
BITS_PER_PIXEL: 8
SAMPLES_AND_LINES: 5543 7630
HORIZONTAL_DATUM: NAD83
HORIZONTAL_COORDINATE_SYSTEM: UTM
COORDINATE_ZONE: 13
HORIZONTAL_UNITS: METERS
HORIZONTAL_RESOLUTION: 1.00000
SECONDARY_HORIZONTAL_DATUM: NAD27
XY_ORIGIN: 394511.00000 5178602.00000
SECONDARY_XY_ORIGIN: 394552.49900 5178382.77600
NATION: US
NATION: "SCIENCE
STATE: MT
NW_QUAD_CORNER_XY: 394978.83800 5178301.07800
NE_QUAD_CORNER_XY: 399752.47600 5178219.51800
SE_QUAD_CORNERY_XY: 399636.63800 5171274.56900
SW_QUAD_CORNER_XY: 394857.48100 5171356.14000
SECONDARY_NW_QUAD_XY: 394975.61800 5178082.69200
SECONDARY_NE_QUAD_XY: 399749.40200 5178001.13000
SECONDARY_SE_QUAD_XY: 399633.56500 5171056.21300
SECONDARY_SW_QUAD_XY: 394854.26200 5171137.78600
RMSE_XY: 2.40000
IMAGE_SOURCE: BLACK AND WHITE FILM
SOURCE_IMAGE_ID: NAPP 9106 197
SOURCE_IMAGE_DATE: 1996 08 07
SOURCE_IMAGE_ID: NAPP 9106 196
SOURCE_IMAGE_DATE: 1996 08 07
SOURCE_IMAGE_ID: NAPP 9106 195
SOURCE_IMAGE_DATE: 1996 08 07
SOURCE_DEM_DATE: 1968 00 00
AGENCY: WESTERN MAPPING CENTER (WMC)
PRODUCER: UNDEFINED
PRODUCTION_SYSTEM: GIS/MAGIC
COMPRESSION: UNDEFINED
STANDARD_VERSION: 1996 12
METADATA_DATE: 1999 06 02
DATA_FILE_SIZE: 42298633
BYTE_COUNT: 5543
