FILENAME: O4610623.SWS.1009113.tif
QUADRANGLE_NAME: ANGELA
QUADRANT: SW
WEST_LONGITUDE: -106 15 0.00000
EAST_LONGITUDE: -106 11 15.00000
NORTH_LATITUDE: 46 41 15.00000
SOUTH_LATITUDE: 46 37 30.00000
PRODUCTION_DATE: 1999 5 18
RASTER_ORDER: LEFT_RIGHT/TOP_BOTTOM
BAND_ORGANIZATION: SINGLE FILE
BAND_CONTENT: BLACK&WHITE
BAND_CONTENT: UNDEFINED
BAND_CONTENT: UNDEFINED
BITS_PER_PIXEL: 8
SAMPLES_AND_LINES: 5536 7623
HORIZONTAL_DATUM: NAD83
HORIZONTAL_COORDINATE_SYSTEM: UTM
COORDINATE_ZONE: 13
HORIZONTAL_UNITS: METERS
HORIZONTAL_RESOLUTION: 1.00000
SECONDARY_HORIZONTAL_DATUM: NAD27
XY_ORIGIN: 403960.00000 5171498.00000
SECONDARY_XY_ORIGIN: 404001.40500 5171278.75200
NATION: US
NATION: "SCIENCE
STATE: MT
NW_QUAD_CORNER_XY: 404415.80100 5171196.79400
NE_QUAD_CORNER_XY: 409194.97000 5171122.81400
SE_QUAD_CORNERY_XY: 409090.27600 5164177.91800
SW_QUAD_CORNER_XY: 404305.59500 5164251.90800
SECONDARY_NW_QUAD_XY: 404412.87400 5170978.43500
SECONDARY_NE_QUAD_XY: 409192.19000 5170904.45300
SECONDARY_SE_QUAD_XY: 409087.49600 5163959.59100
SECONDARY_SW_QUAD_XY: 404302.66900 5164033.58200
RMSE_XY: 1.00000
IMAGE_SOURCE: BLACK AND WHITE FILM
SOURCE_IMAGE_ID: NAPP 9106 101
SOURCE_IMAGE_DATE: 1996 08 07
SOURCE_IMAGE_ID: NAPP 9106 099
SOURCE_IMAGE_DATE: 1996 08 07
SOURCE_DEM_DATE: 1968 00 00
AGENCY: WESTERN MAPPING CENTER (WMC)
PRODUCER: UNDEFINED
PRODUCTION_SYSTEM: GIS/MAGIC
COMPRESSION: UNDEFINED
STANDARD_VERSION: 1996 12
METADATA_DATE: 1999 06 02
DATA_FILE_SIZE: 42206464
BYTE_COUNT: 5536
