FILENAME: O4610624.SWS.1009302.tif
QUADRANGLE_NAME: ANGELA NE
QUADRANT: SW
WEST_LONGITUDE: -106 7 30.00000
EAST_LONGITUDE: -106 3 45.00000
NORTH_LATITUDE: 46 41 15.00000
SOUTH_LATITUDE: 46 37 30.00000
PRODUCTION_DATE: 1999 5 18
RASTER_ORDER: LEFT_RIGHT/TOP_BOTTOM
BAND_ORGANIZATION: SINGLE FILE
BAND_CONTENT: BLACK&WHITE
BAND_CONTENT: UNDEFINED
BAND_CONTENT: UNDEFINED
BITS_PER_PIXEL: 8
SAMPLES_AND_LINES: 5525 7615
HORIZONTAL_DATUM: NAD83
HORIZONTAL_COORDINATE_SYSTEM: UTM
COORDINATE_ZONE: 13
HORIZONTAL_UNITS: METERS
HORIZONTAL_RESOLUTION: 1.00000
SECONDARY_HORIZONTAL_DATUM: NAD27
XY_ORIGIN: 413530.00000 5171354.00000
SECONDARY_XY_ORIGIN: 413571.35100 5171134.73100
NATION: US
NATION: "SCIENCE
STATE: MT
NW_QUAD_CORNER_XY: 413974.14600 5171052.62800
NE_QUAD_CORNER_XY: 418753.32800 5170986.23700
SE_QUAD_CORNERY_XY: 418659.65600 5164041.32500
SW_QUAD_CORNER_XY: 413874.96300 5164107.72400
SECONDARY_NW_QUAD_XY: 413971.51200 5170834.26500
SECONDARY_NE_QUAD_XY: 418750.84000 5170767.87200
SECONDARY_SE_QUAD_XY: 418657.16900 5163822.99300
SECONDARY_SW_QUAD_XY: 413872.33000 5163889.39400
RMSE_XY: 1.20000
IMAGE_SOURCE: BLACK AND WHITE FILM
SOURCE_IMAGE_ID: NAPP 9090 051
SOURCE_IMAGE_DATE: 1996 07 07
SOURCE_DEM_DATE: 1968 00 00
AGENCY: WESTERN MAPPING CENTER (WMC)
PRODUCER: UNDEFINED
PRODUCTION_SYSTEM: GIS/MAGIC
COMPRESSION: UNDEFINED
STANDARD_VERSION: 1996 12
METADATA_DATE: 1999 06 02
DATA_FILE_SIZE: 42078400
BYTE_COUNT: 5525
