FILENAME: O4610624.NWS.1009300.tif
QUADRANGLE_NAME: ANGELA NE
QUADRANT: NW
WEST_LONGITUDE: -106 7 30.00000
EAST_LONGITUDE: -106 3 45.00000
NORTH_LATITUDE: 46 45 0.00000
SOUTH_LATITUDE: 46 41 15.00000
PRODUCTION_DATE: 1999 5 18
RASTER_ORDER: LEFT_RIGHT/TOP_BOTTOM
BAND_ORGANIZATION: SINGLE FILE
BAND_CONTENT: BLACK&WHITE
BAND_CONTENT: UNDEFINED
BAND_CONTENT: UNDEFINED
BITS_PER_PIXEL: 8
SAMPLES_AND_LINES: 5520 7615
HORIZONTAL_DATUM: NAD83
HORIZONTAL_COORDINATE_SYSTEM: UTM
COORDINATE_ZONE: 13
HORIZONTAL_UNITS: METERS
HORIZONTAL_RESOLUTION: 1.00000
SECONDARY_HORIZONTAL_DATUM: NAD27
XY_ORIGIN: 413629.00000 5178299.00000
SECONDARY_XY_ORIGIN: 413670.39300 5178079.68900
NATION: US
NATION: "SCIENCE
STATE: MT
NW_QUAD_CORNER_XY: 414073.43200 5177997.60500
NE_QUAD_CORNER_XY: 418847.09600 5177931.22300
SE_QUAD_CORNERY_XY: 418753.32800 5170986.23700
SW_QUAD_CORNER_XY: 413974.14600 5171052.62800
SECONDARY_NW_QUAD_XY: 414070.79700 5177779.21000
SECONDARY_NE_QUAD_XY: 418844.60800 5177712.82500
SECONDARY_SE_QUAD_XY: 418750.84000 5170767.87200
SECONDARY_SW_QUAD_XY: 413971.51200 5170834.26500
RMSE_XY: 1.80000
IMAGE_SOURCE: BLACK AND WHITE FILM
SOURCE_IMAGE_ID: NAPP 9090 049
SOURCE_IMAGE_DATE: 1996 07 07
SOURCE_IMAGE_ID: NAPP 9106 034
SOURCE_IMAGE_DATE: 1996 08 07
SOURCE_IMAGE_ID: NAPP 9090 047
SOURCE_IMAGE_DATE: 1996 07 07
SOURCE_IMAGE_ID: NAPP 9089 060
SOURCE_IMAGE_DATE: 1996 07 07
SOURCE_DEM_DATE: 1968 00 00
AGENCY: WESTERN MAPPING CENTER (WMC)
PRODUCER: UNDEFINED
PRODUCTION_SYSTEM: GIS/MAGIC
COMPRESSION: UNDEFINED
STANDARD_VERSION: 1996 12
METADATA_DATE: 1999 06 02
DATA_FILE_SIZE: 42040320
BYTE_COUNT: 5520
