FILENAME: O4610626.NWS.1008251.tif
QUADRANGLE_NAME: FLAT BOTTOM COULEE SE
QUADRANT: NW
WEST_LONGITUDE: -106 52 30.00000
EAST_LONGITUDE: -106 48 45.00000
NORTH_LATITUDE: 46 37 30.00000
SOUTH_LATITUDE: 46 33 45.00000
PRODUCTION_DATE: 1999 5 20
RASTER_ORDER: LEFT_RIGHT/TOP_BOTTOM
BAND_ORGANIZATION: SINGLE FILE
BAND_CONTENT: BLACK&WHITE
BAND_CONTENT: UNDEFINED
BAND_CONTENT: UNDEFINED
BITS_PER_PIXEL: 8
SAMPLES_AND_LINES: 5599 7661
HORIZONTAL_DATUM: NAD83
HORIZONTAL_COORDINATE_SYSTEM: UTM
COORDINATE_ZONE: 13
HORIZONTAL_UNITS: METERS
HORIZONTAL_RESOLUTION: 1.00000
SECONDARY_HORIZONTAL_DATUM: NAD27
XY_ORIGIN: 355946.00000 5165502.00000
SECONDARY_XY_ORIGIN: 355988.20900 5165283.27000
NATION: US
NATION: "SCIENCE
STATE: MT
NW_QUAD_CORNER_XY: 356459.18100 5165200.58500
NE_QUAD_CORNER_XY: 361243.78500 5165088.63200
SE_QUAD_CORNERY_XY: 361084.12700 5158143.91800
SW_QUAD_CORNER_XY: 356294.01400 5158255.88400
SECONDARY_NW_QUAD_XY: 356454.79200 5164982.28900
SECONDARY_NE_QUAD_XY: 361239.54200 5164870.33200
SECONDARY_SE_QUAD_XY: 361079.88500 5157925.65200
SECONDARY_SW_QUAD_XY: 356289.62600 5158037.62200
RMSE_XY: 0.90000
IMAGE_SOURCE: BLACK AND WHITE FILM
SOURCE_IMAGE_ID: NAPP 10723 025
SOURCE_IMAGE_DATE: 1997 08 28
SOURCE_DEM_DATE: 1968 00 00
AGENCY: WESTERN MAPPING CENTER (WMC)
PRODUCER: UNDEFINED
PRODUCTION_SYSTEM: GIS/MAGIC
COMPRESSION: UNDEFINED
STANDARD_VERSION: 1996 12
METADATA_DATE: 1999 06 02
DATA_FILE_SIZE: 42899538
BYTE_COUNT: 5599
