FILENAME: O4610626.NES.1008250.tif
QUADRANGLE_NAME: FLAT BOTTOM COULEE SE
QUADRANT: NE
WEST_LONGITUDE: -106 48 45.00000
EAST_LONGITUDE: -106 45 0.00000
NORTH_LATITUDE: 46 37 30.00000
SOUTH_LATITUDE: 46 33 45.00000
PRODUCTION_DATE: 1999 5 20
RASTER_ORDER: LEFT_RIGHT/TOP_BOTTOM
BAND_ORGANIZATION: SINGLE FILE
BAND_CONTENT: BLACK&WHITE
BAND_CONTENT: UNDEFINED
BAND_CONTENT: UNDEFINED
BITS_PER_PIXEL: 8
SAMPLES_AND_LINES: 5594 7657
HORIZONTAL_DATUM: NAD83
HORIZONTAL_COORDINATE_SYSTEM: UTM
COORDINATE_ZONE: 13
HORIZONTAL_UNITS: METERS
HORIZONTAL_RESOLUTION: 1.00000
SECONDARY_HORIZONTAL_DATUM: NAD27
XY_ORIGIN: 360736.00000 5165390.00000
SECONDARY_XY_ORIGIN: 360778.09600 5165171.20200
NATION: US
NATION: "SCIENCE
STATE: MT
NW_QUAD_CORNER_XY: 361243.78500 5165088.63200
NE_QUAD_CORNER_XY: 366028.39800 5164980.47700
SE_QUAD_CORNERY_XY: 365874.24900 5158035.75000
SW_QUAD_CORNER_XY: 361084.12700 5158143.91800
SECONDARY_NW_QUAD_XY: 361239.54200 5164870.33200
SECONDARY_NE_QUAD_XY: 366024.30200 5164762.17300
SECONDARY_SE_QUAD_XY: 365870.15300 5157817.48000
SECONDARY_SW_QUAD_XY: 361079.88500 5157925.65200
RMSE_XY: 0.80000
IMAGE_SOURCE: BLACK AND WHITE FILM
SOURCE_IMAGE_ID: NAPP 9109 015
SOURCE_IMAGE_DATE: 1996 08 11
SOURCE_IMAGE_ID: NAPP 9109 013
SOURCE_IMAGE_DATE: 1996 08 11
SOURCE_DEM_DATE: 1968 00 00
AGENCY: WESTERN MAPPING CENTER (WMC)
PRODUCER: UNDEFINED
PRODUCTION_SYSTEM: GIS/MAGIC
COMPRESSION: UNDEFINED
STANDARD_VERSION: 1996 12
METADATA_DATE: 1999 06 02
DATA_FILE_SIZE: 42838852
BYTE_COUNT: 5594
