FILENAME: O4610628.SWS.1008273.tif
QUADRANGLE_NAME: ROUGH CREEK SE
QUADRANT: SW
WEST_LONGITUDE: -106 37 30.00000
EAST_LONGITUDE: -106 33 45.00000
NORTH_LATITUDE: 46 33 45.00000
SOUTH_LATITUDE: 46 30 0.00000
PRODUCTION_DATE: 1999 5 20
RASTER_ORDER: LEFT_RIGHT/TOP_BOTTOM
BAND_ORGANIZATION: SINGLE FILE
BAND_CONTENT: BLACK&WHITE
BAND_CONTENT: UNDEFINED
BAND_CONTENT: UNDEFINED
BITS_PER_PIXEL: 8
SAMPLES_AND_LINES: 5581 7645
HORIZONTAL_DATUM: NAD83
HORIZONTAL_COORDINATE_SYSTEM: UTM
COORDINATE_ZONE: 13
HORIZONTAL_UNITS: METERS
HORIZONTAL_RESOLUTION: 1.00000
SECONDARY_HORIZONTAL_DATUM: NAD27
XY_ORIGIN: 374965.00000 5158132.00000
SECONDARY_XY_ORIGIN: 375006.71100 5157913.10500
NATION: US
NATION: "SCIENCE
STATE: MT
NW_QUAD_CORNER_XY: 375454.51700 5157830.80500
NE_QUAD_CORNER_XY: 380244.66400 5157734.02800
SE_QUAD_CORNERY_XY: 380107.18200 5150789.33600
SW_QUAD_CORNER_XY: 375311.53300 5150886.12400
SECONDARY_NW_QUAD_XY: 375450.71400 5157612.52900
SECONDARY_NE_QUAD_XY: 380241.00700 5157515.75000
SECONDARY_SE_QUAD_XY: 380103.52600 5150571.09200
SECONDARY_SW_QUAD_XY: 375307.73100 5150667.88300
RMSE_XY: 0.70000
IMAGE_SOURCE: BLACK AND WHITE FILM
SOURCE_IMAGE_ID: NAPP 9110 220
SOURCE_IMAGE_DATE: 1996 08 11
SOURCE_IMAGE_ID: NAPP 9111 079
SOURCE_IMAGE_DATE: 1996 08 11
SOURCE_IMAGE_ID: NAPP 9110 219
SOURCE_IMAGE_DATE: 1996 08 11
SOURCE_DEM_DATE: 1968 00 00
AGENCY: WESTERN MAPPING CENTER (WMC)
PRODUCER: UNDEFINED
PRODUCTION_SYSTEM: GIS/MAGIC
COMPRESSION: UNDEFINED
STANDARD_VERSION: 1996 12
METADATA_DATE: 1999 06 02
DATA_FILE_SIZE: 42672326
BYTE_COUNT: 5581
