FILENAME: O4610628.SES.1008272.tif
QUADRANGLE_NAME: ROUGH CREEK SE
QUADRANT: SE
WEST_LONGITUDE: -106 33 45.00000
EAST_LONGITUDE: -106 30 0.00000
NORTH_LATITUDE: 46 33 45.00000
SOUTH_LATITUDE: 46 30 0.00000
PRODUCTION_DATE: 1999 5 20
RASTER_ORDER: LEFT_RIGHT/TOP_BOTTOM
BAND_ORGANIZATION: SINGLE FILE
BAND_CONTENT: BLACK&WHITE
BAND_CONTENT: UNDEFINED
BAND_CONTENT: UNDEFINED
BITS_PER_PIXEL: 8
SAMPLES_AND_LINES: 5576 7641
HORIZONTAL_DATUM: NAD83
HORIZONTAL_COORDINATE_SYSTEM: UTM
COORDINATE_ZONE: 13
HORIZONTAL_UNITS: METERS
HORIZONTAL_RESOLUTION: 1.00000
SECONDARY_HORIZONTAL_DATUM: NAD27
XY_ORIGIN: 379760.00000 5158035.00000
SECONDARY_XY_ORIGIN: 379801.60400 5157816.03400
NATION: US
NATION: "SCIENCE
STATE: MT
NW_QUAD_CORNER_XY: 380244.66400 5157734.02800
NE_QUAD_CORNER_XY: 385034.81800 5157641.04900
SE_QUAD_CORNERY_XY: 384902.83700 5150696.34600
SW_QUAD_CORNER_XY: 380107.18200 5150789.33600
SECONDARY_NW_QUAD_XY: 380241.00700 5157515.75000
SECONDARY_NE_QUAD_XY: 385031.30700 5157422.76700
SECONDARY_SE_QUAD_XY: 384899.32800 5150478.09900
SECONDARY_SW_QUAD_XY: 380103.52600 5150571.09200
RMSE_XY: 1.60000
IMAGE_SOURCE: BLACK AND WHITE FILM
SOURCE_IMAGE_ID: NAPP 9110 059
SOURCE_IMAGE_DATE: 1996 08 11
SOURCE_IMAGE_ID: NAPP 9110 219
SOURCE_IMAGE_DATE: 1996 08 11
SOURCE_IMAGE_ID: NAPP 9106 302
SOURCE_IMAGE_DATE: 1996 08 07
SOURCE_DEM_DATE: 1968 00 00
AGENCY: WESTERN MAPPING CENTER (WMC)
PRODUCER: UNDEFINED
PRODUCTION_SYSTEM: GIS/MAGIC
COMPRESSION: UNDEFINED
STANDARD_VERSION: 1996 12
METADATA_DATE: 1999 06 02
DATA_FILE_SIZE: 42611792
BYTE_COUNT: 5576
