FILENAME: O4610630.SWS.1008345.tif
QUADRANGLE_NAME: WILD HORSE PASS SE
QUADRANT: SW
WEST_LONGITUDE: -106 22 30.00000
EAST_LONGITUDE: -106 18 45.00000
NORTH_LATITUDE: 46 33 45.00000
SOUTH_LATITUDE: 46 30 0.00000
PRODUCTION_DATE: 1999 5 20
RASTER_ORDER: LEFT_RIGHT/TOP_BOTTOM
BAND_ORGANIZATION: SINGLE FILE
BAND_CONTENT: BLACK&WHITE
BAND_CONTENT: UNDEFINED
BAND_CONTENT: UNDEFINED
BITS_PER_PIXEL: 8
SAMPLES_AND_LINES: 5559 7630
HORIZONTAL_DATUM: NAD83
HORIZONTAL_COORDINATE_SYSTEM: UTM
COORDINATE_ZONE: 13
HORIZONTAL_UNITS: METERS
HORIZONTAL_RESOLUTION: 1.00000
SECONDARY_HORIZONTAL_DATUM: NAD27
XY_ORIGIN: 394148.00000 5157768.00000
SECONDARY_XY_ORIGIN: 394189.41100 5157548.88800
NATION: US
NATION: "SCIENCE
STATE: MT
NW_QUAD_CORNER_XY: 394615.14700 5157466.47900
NE_QUAD_CORNER_XY: 399405.32200 5157384.88900
SE_QUAD_CORNERY_XY: 399289.84500 5150440.15700
SW_QUAD_CORNER_XY: 394494.16900 5150521.75600
SECONDARY_NW_QUAD_XY: 394611.92900 5157248.19200
SECONDARY_NE_QUAD_XY: 399402.25100 5157166.59900
SECONDARY_SE_QUAD_XY: 399286.77400 5150221.90200
SECONDARY_SW_QUAD_XY: 394490.95200 5150303.50400
RMSE_XY: 1.40000
IMAGE_SOURCE: BLACK AND WHITE FILM
SOURCE_IMAGE_ID: NAPP 9106 203
SOURCE_IMAGE_DATE: 1996 08 07
SOURCE_IMAGE_ID: NAPP 9122 045
SOURCE_IMAGE_DATE: 1996 09 11
SOURCE_IMAGE_ID: NAPP 9106 201
SOURCE_IMAGE_DATE: 1996 08 07
SOURCE_DEM_DATE: 1968 00 00
AGENCY: WESTERN MAPPING CENTER (WMC)
PRODUCER: UNDEFINED
PRODUCTION_SYSTEM: GIS/MAGIC
COMPRESSION: UNDEFINED
STANDARD_VERSION: 1996 12
METADATA_DATE: 1999 06 02
DATA_FILE_SIZE: 42420729
BYTE_COUNT: 5559
