FILENAME: O4610630.NES.1008342.tif
QUADRANGLE_NAME: WILD HORSE PASS SE
QUADRANT: NE
WEST_LONGITUDE: -106 18 45.00000
EAST_LONGITUDE: -106 15 0.00000
NORTH_LATITUDE: 46 37 30.00000
SOUTH_LATITUDE: 46 33 45.00000
PRODUCTION_DATE: 1999 5 20
RASTER_ORDER: LEFT_RIGHT/TOP_BOTTOM
BAND_ORGANIZATION: SINGLE FILE
BAND_CONTENT: BLACK&WHITE
BAND_CONTENT: UNDEFINED
BAND_CONTENT: UNDEFINED
BITS_PER_PIXEL: 8
SAMPLES_AND_LINES: 5548 7626
HORIZONTAL_DATUM: NAD83
HORIZONTAL_COORDINATE_SYSTEM: UTM
COORDINATE_ZONE: 13
HORIZONTAL_UNITS: METERS
HORIZONTAL_RESOLUTION: 1.00000
SECONDARY_HORIZONTAL_DATUM: NAD27
XY_ORIGIN: 399059.00000 5164631.00000
SECONDARY_XY_ORIGIN: 399100.40400 5164411.81900
NATION: US
NATION: "SCIENCE
STATE: MT
NW_QUAD_CORNER_XY: 399520.92000 5164329.69300
NE_QUAD_CORNER_XY: 404305.59500 5164251.90800
SE_QUAD_CORNERY_XY: 404195.50300 5157307.09500
SW_QUAD_CORNER_XY: 399405.32200 5157384.88900
SECONDARY_NW_QUAD_XY: 399517.84700 5164111.37000
SECONDARY_NE_QUAD_XY: 404302.66900 5164033.58200
SECONDARY_SE_QUAD_XY: 404192.57800 5157088.80300
SECONDARY_SW_QUAD_XY: 399402.25100 5157166.59900
RMSE_XY: 1.10000
IMAGE_SOURCE: BLACK AND WHITE FILM
SOURCE_IMAGE_ID: NAPP 9106 126
SOURCE_IMAGE_DATE: 1996 08 07
SOURCE_IMAGE_ID: NAPP 9106 201
SOURCE_IMAGE_DATE: 1996 08 07
SOURCE_IMAGE_ID: NAPP 9106 128
SOURCE_IMAGE_DATE: 1996 08 07
SOURCE_DEM_DATE: 1968 00 00
AGENCY: WESTERN MAPPING CENTER (WMC)
PRODUCER: UNDEFINED
PRODUCTION_SYSTEM: GIS/MAGIC
COMPRESSION: UNDEFINED
STANDARD_VERSION: 1996 12
METADATA_DATE: 1999 06 02
DATA_FILE_SIZE: 42314596
BYTE_COUNT: 5548
