FILENAME: O4610631.SES.1009116.tif
QUADRANGLE_NAME: HOBO COULEE
QUADRANT: SE
WEST_LONGITUDE: -106 11 15.00000
EAST_LONGITUDE: -106 7 30.00000
NORTH_LATITUDE: 46 33 45.00000
SOUTH_LATITUDE: 46 30 0.00000
PRODUCTION_DATE: 1999 5 20
RASTER_ORDER: LEFT_RIGHT/TOP_BOTTOM
BAND_ORGANIZATION: SINGLE FILE
BAND_CONTENT: BLACK&WHITE
BAND_CONTENT: UNDEFINED
BAND_CONTENT: UNDEFINED
BITS_PER_PIXEL: 8
SAMPLES_AND_LINES: 5541 7618
HORIZONTAL_DATUM: NAD83
HORIZONTAL_COORDINATE_SYSTEM: UTM
COORDINATE_ZONE: 13
HORIZONTAL_UNITS: METERS
HORIZONTAL_RESOLUTION: 1.00000
SECONDARY_HORIZONTAL_DATUM: NAD27
XY_ORIGIN: 408536.00000 5157534.00000
SECONDARY_XY_ORIGIN: 408577.29600 5157314.81600
NATION: US
NATION: "SCIENCE
STATE: MT
NW_QUAD_CORNER_XY: 408985.69100 5157233.09600
NE_QUAD_CORNER_XY: 413775.88400 5157162.89400
SE_QUAD_CORNERY_XY: 413676.90800 5150218.13700
SW_QUAD_CORNER_XY: 408881.21500 5150288.34700
SECONDARY_NW_QUAD_XY: 408982.91200 5157014.80200
SECONDARY_NE_QUAD_XY: 413773.25100 5156944.59800
SECONDARY_SE_QUAD_XY: 413674.27600 5149999.87500
SECONDARY_SW_QUAD_XY: 408878.43600 5150070.08800
RMSE_XY: 1.70000
IMAGE_SOURCE: BLACK AND WHITE FILM
SOURCE_IMAGE_ID: NAPP 9106 028
SOURCE_IMAGE_DATE: 1996 08 07
SOURCE_IMAGE_ID: NAPP 9106 105
SOURCE_IMAGE_DATE: 1996 08 07
SOURCE_DEM_DATE: 1968 00 00
AGENCY: WESTERN MAPPING CENTER (WMC)
PRODUCER: UNDEFINED
PRODUCTION_SYSTEM: GIS/MAGIC
COMPRESSION: UNDEFINED
STANDARD_VERSION: 1996 12
METADATA_DATE: 1999 06 02
DATA_FILE_SIZE: 42216879
BYTE_COUNT: 5541
