FILENAME: O4610632.SES.1009141.tif
QUADRANGLE_NAME: N BAR COULEE
QUADRANT: SE
WEST_LONGITUDE: -106 3 45.00000
EAST_LONGITUDE: -106 0 0.00000
NORTH_LATITUDE: 46 33 45.00000
SOUTH_LATITUDE: 46 30 0.00000
PRODUCTION_DATE: 1999 5 20
RASTER_ORDER: LEFT_RIGHT/TOP_BOTTOM
BAND_ORGANIZATION: SINGLE FILE
BAND_CONTENT: BLACK&WHITE
BAND_CONTENT: UNDEFINED
BAND_CONTENT: UNDEFINED
BITS_PER_PIXEL: 8
SAMPLES_AND_LINES: 5531 7611
HORIZONTAL_DATUM: NAD83
HORIZONTAL_COORDINATE_SYSTEM: UTM
COORDINATE_ZONE: 13
HORIZONTAL_UNITS: METERS
HORIZONTAL_RESOLUTION: 1.00000
SECONDARY_HORIZONTAL_DATUM: NAD27
XY_ORIGIN: 418127.00000 5157398.00000
SECONDARY_XY_ORIGIN: 418168.23900 5157178.81500
NATION: US
NATION: "SCIENCE
STATE: MT
NW_QUAD_CORNER_XY: 418566.08300 5157096.48700
NE_QUAD_CORNER_XY: 423356.28600 5157033.87500
SE_QUAD_CORNERY_XY: 423268.31000 5150089.10400
SW_QUAD_CORNER_XY: 418472.60700 5150151.72200
SECONDARY_NW_QUAD_XY: 418563.59600 5156878.18900
SECONDARY_NE_QUAD_XY: 423353.94600 5156815.57500
SECONDARY_SE_QUAD_XY: 423265.97000 5149870.83800
SECONDARY_SW_QUAD_XY: 418470.12100 5149933.45900
RMSE_XY: 1.20000
IMAGE_SOURCE: BLACK AND WHITE FILM
SOURCE_IMAGE_ID: NAPP 9089 052
SOURCE_IMAGE_DATE: 1996 07 07
SOURCE_IMAGE_ID: NAPP 9090 055
SOURCE_IMAGE_DATE: 1996 07 07
SOURCE_IMAGE_ID: NAPP 9089 051
SOURCE_IMAGE_DATE: 1996 07 07
SOURCE_DEM_DATE: 1968 00 00
AGENCY: WESTERN MAPPING CENTER (WMC)
PRODUCER: UNDEFINED
PRODUCTION_SYSTEM: GIS/MAGIC
COMPRESSION: UNDEFINED
STANDARD_VERSION: 1996 12
METADATA_DATE: 1999 06 02
DATA_FILE_SIZE: 42101972
BYTE_COUNT: 5531
