FILENAME: O4610634.SWS.1008659.tif
QUADRANGLE_NAME: FINCH NE
QUADRANT: SW
WEST_LONGITUDE: -106 52 30.00000
EAST_LONGITUDE: -106 48 45.00000
NORTH_LATITUDE: 46 26 15.00000
SOUTH_LATITUDE: 46 22 30.00000
PRODUCTION_DATE: 1999 5 10
RASTER_ORDER: LEFT_RIGHT/TOP_BOTTOM
BAND_ORGANIZATION: SINGLE FILE
BAND_CONTENT: BLACK&WHITE
BAND_CONTENT: UNDEFINED
BAND_CONTENT: UNDEFINED
BITS_PER_PIXEL: 8
SAMPLES_AND_LINES: 5615 7659
HORIZONTAL_DATUM: NAD83
HORIZONTAL_COORDINATE_SYSTEM: UTM
COORDINATE_ZONE: 13
HORIZONTAL_UNITS: METERS
HORIZONTAL_RESOLUTION: 1.00000
SECONDARY_HORIZONTAL_DATUM: NAD27
XY_ORIGIN: 355452.00000 5144667.00000
SECONDARY_XY_ORIGIN: 355494.03800 5144448.59500
NATION: US
NATION: "SCIENCE
STATE: MT
NW_QUAD_CORNER_XY: 355964.19700 5144366.68700
NE_QUAD_CORNER_XY: 360765.31000 5144254.69600
SE_QUAD_CORNERY_XY: 360606.15200 5137310.18700
SW_QUAD_CORNER_XY: 355799.54600 5137422.19000
SECONDARY_NW_QUAD_XY: 355959.81000 5144148.49400
SECONDARY_NE_QUAD_XY: 360761.07000 5144036.50000
SECONDARY_SE_QUAD_XY: 360601.91300 5137092.02800
SECONDARY_SW_QUAD_XY: 355795.16100 5137204.03400
RMSE_XY: 1.10000
IMAGE_SOURCE: BLACK AND WHITE FILM
SOURCE_IMAGE_ID: NAPP 10723 019
SOURCE_IMAGE_DATE: 1997 08 28
SOURCE_DEM_DATE: 1966 00 00
AGENCY: WESTERN MAPPING CENTER (WMC)
PRODUCER: UNDEFINED
PRODUCTION_SYSTEM: GIS/MAGIC
COMPRESSION: UNDEFINED
STANDARD_VERSION: 1996 12
METADATA_DATE: 1999 05 24
DATA_FILE_SIZE: 43010900
BYTE_COUNT: 5615
