FILENAME: O4610634.SES.1008658.tif
QUADRANGLE_NAME: FINCH NE
QUADRANT: SE
WEST_LONGITUDE: -106 48 45.00000
EAST_LONGITUDE: -106 45 0.00000
NORTH_LATITUDE: 46 26 15.00000
SOUTH_LATITUDE: 46 22 30.00000
PRODUCTION_DATE: 1999 5 10
RASTER_ORDER: LEFT_RIGHT/TOP_BOTTOM
BAND_ORGANIZATION: SINGLE FILE
BAND_CONTENT: BLACK&WHITE
BAND_CONTENT: UNDEFINED
BAND_CONTENT: UNDEFINED
BITS_PER_PIXEL: 8
SAMPLES_AND_LINES: 5609 7656
HORIZONTAL_DATUM: NAD83
HORIZONTAL_COORDINATE_SYSTEM: UTM
COORDINATE_ZONE: 13
HORIZONTAL_UNITS: METERS
HORIZONTAL_RESOLUTION: 1.00000
SECONDARY_HORIZONTAL_DATUM: NAD27
XY_ORIGIN: 360259.00000 5144555.00000
SECONDARY_XY_ORIGIN: 360300.93100 5144336.51000
NATION: US
NATION: "SCIENCE
STATE: MT
NW_QUAD_CORNER_XY: 360765.31000 5144254.69600
NE_QUAD_CORNER_XY: 365566.43200 5144146.50300
SE_QUAD_CORNERY_XY: 365412.76500 5137201.98300
SW_QUAD_CORNER_XY: 360606.15200 5137310.18700
SECONDARY_NW_QUAD_XY: 360761.07000 5144036.50000
SECONDARY_NE_QUAD_XY: 365562.33800 5143928.30400
SECONDARY_SE_QUAD_XY: 365408.67200 5136983.82100
SECONDARY_SW_QUAD_XY: 360601.91300 5137092.02800
RMSE_XY: 0.90000
IMAGE_SOURCE: BLACK AND WHITE FILM
SOURCE_IMAGE_ID: NAPP 9115 056
SOURCE_IMAGE_DATE: 1996 09 10
SOURCE_IMAGE_ID: NAPP 10723 019
SOURCE_IMAGE_DATE: 1997 08 28
SOURCE_DEM_DATE: 1966 00 00
AGENCY: WESTERN MAPPING CENTER (WMC)
PRODUCER: UNDEFINED
PRODUCTION_SYSTEM: GIS/MAGIC
COMPRESSION: UNDEFINED
STANDARD_VERSION: 1996 12
METADATA_DATE: 1999 05 24
DATA_FILE_SIZE: 42948113
BYTE_COUNT: 5609
