FILENAME: O4610636.SES.1008260.tif
QUADRANGLE_NAME: SCHULTZ COULEE
QUADRANT: SE
WEST_LONGITUDE: -106 33 45.00000
EAST_LONGITUDE: -106 30 0.00000
NORTH_LATITUDE: 46 26 15.00000
SOUTH_LATITUDE: 46 22 30.00000
PRODUCTION_DATE: 1999 5 11
RASTER_ORDER: LEFT_RIGHT/TOP_BOTTOM
BAND_ORGANIZATION: SINGLE FILE
BAND_CONTENT: BLACK&WHITE
BAND_CONTENT: UNDEFINED
BAND_CONTENT: UNDEFINED
BITS_PER_PIXEL: 8
SAMPLES_AND_LINES: 5586 7641
HORIZONTAL_DATUM: NAD83
HORIZONTAL_COORDINATE_SYSTEM: UTM
COORDINATE_ZONE: 13
HORIZONTAL_UNITS: METERS
HORIZONTAL_RESOLUTION: 1.00000
SECONDARY_HORIZONTAL_DATUM: NAD27
XY_ORIGIN: 379486.00000 5144146.00000
SECONDARY_XY_ORIGIN: 379527.53400 5143927.17200
NATION: US
NATION: "SCIENCE
STATE: MT
NW_QUAD_CORNER_XY: 379969.84400 5143844.71400
NE_QUAD_CORNER_XY: 384770.99500 5143751.71400
SE_QUAD_CORNERY_XY: 384639.29100 5136807.15300
SW_QUAD_CORNER_XY: 379832.64900 5136900.16300
SECONDARY_NW_QUAD_XY: 379966.18800 5143626.50600
SECONDARY_NE_QUAD_XY: 384767.48600 5143533.50300
SECONDARY_SE_QUAD_XY: 384635.78200 5136588.97900
SECONDARY_SW_QUAD_XY: 379828.99400 5136681.99100
RMSE_XY: 1.10000
IMAGE_SOURCE: BLACK AND WHITE FILM
SOURCE_IMAGE_ID: NAPP 9110 055
SOURCE_IMAGE_DATE: 1996 08 11
SOURCE_DEM_DATE: 1966 00 00
AGENCY: WESTERN MAPPING CENTER (WMC)
PRODUCER: UNDEFINED
PRODUCTION_SYSTEM: GIS/MAGIC
COMPRESSION: UNDEFINED
STANDARD_VERSION: 1996 12
METADATA_DATE: 1999 06 02
DATA_FILE_SIZE: 42688212
BYTE_COUNT: 5586
